BEGIN:VCALENDAR
VERSION:2.0
PRODID:-//いいものタウン - ECPv6.3.7//NONSGML v1.0//EN
CALSCALE:GREGORIAN
METHOD:PUBLISH
X-WR-CALNAME:いいものタウン
X-ORIGINAL-URL:https://iimono.town
X-WR-CALDESC:いいものタウン のイベント
REFRESH-INTERVAL;VALUE=DURATION:PT1H
X-Robots-Tag:noindex
X-PUBLISHED-TTL:PT1H
BEGIN:VTIMEZONE
TZID:Asia/Tokyo
BEGIN:STANDARD
TZOFFSETFROM:+0900
TZOFFSETTO:+0900
TZNAME:JST
DTSTART:20250101T000000
END:STANDARD
END:VTIMEZONE
BEGIN:VEVENT
DTSTART;TZID=Asia/Tokyo:20251101T000000
DTEND;TZID=Asia/Tokyo:20260215T000000
DTSTAMP:20260422T023858
CREATED:20251027T071245Z
LAST-MODIFIED:20251027T071245Z
UID:166799-1761955200-1771113600@iimono.town
SUMMARY:しそう発酵フェア2025│宍粟市
DESCRIPTION:地元の酒蔵の酒粕や米麹を使って考案したプリンやケーキなどのスイーツのほか、和食洋食の様々なメニューが楽しめる「しそう発酵フェア2025」が開催されます。期間後半は、味噌づくり体験も実施されます。\n詳細はホームページをチェック！ \n\n\n\n開催期間\n2025年11月1日（土）～2026年2月15日（日）\n\n\n\n内容\n・味噌づくり体験\n・最上山もみじ祭りブース出店\n・プレゼント企画
URL:https://iimono.town/event/%e3%81%97%e3%81%9d%e3%81%86%e7%99%ba%e9%85%b5%e3%83%95%e3%82%a7%e3%82%a22025%e2%94%82%e5%ae%8d%e7%b2%9f%e5%b8%82/
CATEGORIES:宍粟市
ATTACH;FMTTYPE=image/jpeg:https://iimono.town/wp-content/uploads/2025/10/1-8.jpg
END:VEVENT
BEGIN:VEVENT
DTSTART;TZID=Asia/Tokyo:20251122T170000
DTEND;TZID=Asia/Tokyo:20260222T220000
DTSTAMP:20260422T023858
CREATED:20251015T052216Z
LAST-MODIFIED:20251015T052216Z
UID:166508-1763830800-1771797600@iimono.town
SUMMARY:Himeji大手前通りイルミネーション│姫路市
DESCRIPTION:大阪・関西万博期間中に実施している大手前通りイルミネーションが、冬季期間も引き続き開催されます。 \n\n\n\n開催日時\n2025年11月22日(土)～2026年2月22日(日)　17:00～22:00\n※週末 (金・土・日曜日)、祝日などは～24:00まで\n\n\n場所\n大手前通り (姫路駅前～姫路城前)、大手前公園および家老屋敷跡公園の一部\n\n\n\nイベント内容\nJR姫路駅と姫路城を一直線に結ぶ大手前通りを上質なイルミネーションで華やかに彩るイベント「Himeji大手前通りイルミネーション」。3度目となる今年も世界的照明デザイナーでもある石井幹子氏監修のもと、実施エリアを約25万球のフルカラーLEDで装飾し、姫路城の彩雲ライトアップと連動した統一感のある光の演出を行います。 \nテーマ「あたら夜」\n \n石井幹子氏監修のもと、「あたら夜」（明けるのが惜しいほどの美しい夜）をテーマに、約25万球のフルカラーLEDを用いて、時間毎に色、動きがさまざまに変化するイルミネーション演出を行います。また、姫路城の彩雲ライトアップと連動した統一感のある演出が行われます。\nクリスマス・正月等の期間には特別カラー演出が行われます。 \n \n好評だった「白鷺をイメージした駅前のフォトスポット」が設置されるほか、大手前通りのシャッターや壁面をキャンパスとしたフォトジェニックスポットが設置され、カップルや女性、ファミリーなどさまざまな方に楽しんでもらえる演出も。 \n季節・時間ごとに変化するイルミネーションプログラム\nフルカラーLEDを用いて時間ごとに色、動きがさまざまに変化することが特徴となっており、姫路城の彩雲ライトアップと連動した統一感のある演出が行われます。カラーパターンは毎月変化し、クリスマス・正月・バレンタイン等の期間には特別なカラーで演出されます。 \n歩行者天国の実施\nイルミネーション期間中の下記日程は大手前通りの一部 (大手前交差点～姫路城前交差点)が歩行者天国になります。歩行者天国時のみの特別な演出やイベントの開催も予定。道の真ん中で姫路城とイルミネーションを同一視野で楽しめる非日常空間をお楽しみください。 \n\n\n\n2025年11月22日（土）、23日（日）\nひめじアートシーズンのイベントとして、ギターやピアノの弾き語り等のアーティストによる演奏のほか、ダンス、書道等のパフォーマンスを予定\n\n\n2025年12月20日（土）、21日（日）\n後述のHitotoki Christmasと一体となり、クリスマスの雰囲気を演出するため、キッチンカーの展開や会場装飾、フォトスポットの設置及びワークショップの実施を予定\n\n\n\n点灯セレモニーの開催\n \n11月22日（土）、歩行者天国内にて点灯セレモニーを実施し、併せて「いい夫婦の日」にちなんだイベントが行われます。 \n・99本の向日葵を持っての記念撮影（手を繋いで来場された先着50組を対象に、プロのカメラマンが記念撮影）\n・約2\,000本のバラをJR姫路駅前で配布（午後4時より配布予定）\n配布するバラは、株式会社JFT姫路生花様（姫路市御国野町深志野300）より提供いただきます。 \nまちなかイルミネーション\n大手前通りイルミネーションに合わせ、姫路駅北にぎわい交流広場や、まちなかの商店街、民間事業者と連携して各施設でイルミネーションやライトアップが実施されます。 \nまちなかイルミネーション参加事業者（予定）\n・アクリエひめじ・山陽百貨店・テラッソ姫路・西二階町商店街・ピオレ姫路・姫路駅前商店街・姫路フェスタ・みゆき通り商店街 \n 
URL:https://iimono.town/event/himeji%e5%a4%a7%e6%89%8b%e5%89%8d%e9%80%9a%e3%82%8a%e3%82%a4%e3%83%ab%e3%83%9f%e3%83%8d%e3%83%bc%e3%82%b7%e3%83%a7%e3%83%b3%e2%94%82%e5%a7%ab%e8%b7%af%e5%b8%82/
LOCATION:姫路大手前通り
CATEGORIES:姫路市
ATTACH;FMTTYPE=image/jpeg:https://iimono.town/wp-content/uploads/2025/10/00880e92e39f015c3bbb970e93872f90-19.jpg
END:VEVENT
BEGIN:VEVENT
DTSTART;TZID=Asia/Tokyo:20260106T100000
DTEND;TZID=Asia/Tokyo:20260331T170000
DTSTAMP:20260422T023858
CREATED:20251229T005814Z
LAST-MODIFIED:20251229T005814Z
UID:170199-1767693600-1774976400@iimono.town
SUMMARY:新春特別展「根付＜NETSUKE＞－手のひらの宇宙」
DESCRIPTION:豊かな自然に囲まれた「姫路市書写の里・美術工芸館」で新春特別展「根付＜NETSUKE＞－手のひらの宇宙」が開催されます。 \n \n新春特別展「根付＜NETSUKE＞－手のひらの宇宙」\n\n\n\n \n\n\n\n会期 令和8年1月6日（火曜日）～3月31日（火曜日）\n会場 姫路市書写の里・美術工芸館\n通常開館終了 令和8年3月末予定\nお問い合わせ 姫路市書写の里・美術工芸館\n\n\n\n \n\n\n \n\n\n \n\n\n\n\n\n開館時間\n午前10時から午後5時（入館は午後4時30分まで）\n\n\n休館日\n月曜日（休日を除く）、休日の翌日（土・日・休日を除く）、年末年始（12月25日から1月5日）\n※その他詳細は「書写の里・美術工芸館」までご確認ください\n\n\n入館料\n\n大人の方が500円、大学生・高校生は300円、そして小・中学生はわずか70円と、とても気軽に立ち寄れる設定です。20名以上の団体で利用される場合は、さらにお得な割引（大人400円、大学・高校生240円、小・中学生50円）も用意されています。
URL:https://iimono.town/event/%e6%96%b0%e6%98%a5%e7%89%b9%e5%88%a5%e5%b1%95%e3%80%8c%e6%a0%b9%e4%bb%98%ef%bc%9cnetsuke%ef%bc%9e%ef%bc%8d%e6%89%8b%e3%81%ae%e3%81%b2%e3%82%89%e3%81%ae%e5%ae%87%e5%ae%99%e3%80%8d/
LOCATION:書写の里・美術工芸館
CATEGORIES:姫路市
ATTACH;FMTTYPE=image/jpeg:https://iimono.town/wp-content/uploads/2025/12/sub2-13.jpg
END:VEVENT
BEGIN:VEVENT
DTSTART;TZID=Asia/Tokyo:20260120T080000
DTEND;TZID=Asia/Tokyo:20260208T170000
DTSTAMP:20260422T023858
CREATED:20260120T040948Z
LAST-MODIFIED:20260120T040948Z
UID:170716-1768896000-1770570000@iimono.town
SUMMARY:特別展示 妖怪造形品│福崎町
DESCRIPTION:福崎町立図書館にて「特別展示 妖怪造形品」が開催されます。 \n\n\n\n開催期間\n2026年1月20日（火）～2月8日（日）\n1月20日、21日はプレオープン\n\n\n場所\n福崎町立図書館\n\n\n\n\n視点が変われば、善悪も変わる？紫霞さんが贈る「多面的な」妖怪の世界／福崎町
URL:https://iimono.town/event/%e7%89%b9%e5%88%a5%e5%b1%95%e7%a4%ba-%e5%a6%96%e6%80%aa%e9%80%a0%e5%bd%a2%e5%93%81%e2%94%82%e7%a6%8f%e5%b4%8e%e7%94%ba/
LOCATION:福崎町立図書館\, 福崎町西治３６０−１\, 神崎郡\, 兵庫県\, 679-2215\, 日本
CATEGORIES:福崎町
ATTACH;FMTTYPE=image/jpeg:https://iimono.town/wp-content/uploads/2026/01/IMG_5293.jpg
END:VEVENT
BEGIN:VEVENT
DTSTART;TZID=Asia/Tokyo:20260207T110000
DTEND;TZID=Asia/Tokyo:20260208T170000
DTSTAMP:20260422T023858
CREATED:20260128T011653Z
LAST-MODIFIED:20260128T011653Z
UID:170940-1770462000-1770570000@iimono.town
SUMMARY:FukuFes.│福崎町
DESCRIPTION:2月7日・8日の２日間に、福崎駅前広場にて「FukuFes.」が開催されます。 \n\n\n\n開催日時\n2026年2月7日（土）、8日（日）11:00〜17:00\n\n\n場所\n福崎駅前広場
URL:https://iimono.town/event/fukufes-%e2%94%82%e7%a6%8f%e5%b4%8e%e7%94%ba/
LOCATION:福崎駅前交流広場
CATEGORIES:福崎町
ATTACH;FMTTYPE=image/jpeg:https://iimono.town/wp-content/uploads/2026/01/FukuFes.jpg
END:VEVENT
BEGIN:VEVENT
DTSTART;TZID=Asia/Tokyo:20260208T090000
DTEND;TZID=Asia/Tokyo:20260208T090000
DTSTAMP:20260422T023858
CREATED:20251205T081727Z
LAST-MODIFIED:20251205T081727Z
UID:168951-1770541200-1770541200@iimono.town
SUMMARY:市川町制施行70周年記念　第47回兵庫市川マラソン全国大会
DESCRIPTION:2026年2月8日に、第47回兵庫市川全国大会が開催されます。 \n\n\n\n開催日時\n2026年2月8日（日）※雨天決行\n開会式：午前8時20分\nスタート：午前9時10分\n\n\n場所\n市川町スポーツセンター\n\n\n\n\n【追加募集決定】70周年記念大会！走って、食べて、豪華景品を当てよう！第47回兵庫市川マラソン全国大会／市川町
URL:https://iimono.town/event/%e5%b8%82%e5%b7%9d%e7%94%ba%e5%88%b6%e6%96%bd%e8%a1%8c70%e5%91%a8%e5%b9%b4%e8%a8%98%e5%bf%b5%e3%80%80%e7%ac%ac47%e5%9b%9e%e5%85%b5%e5%ba%ab%e5%b8%82%e5%b7%9d%e3%83%9e%e3%83%a9%e3%82%bd%e3%83%b3/
LOCATION:市川町スポーツセンター
CATEGORIES:市川町
ATTACH;FMTTYPE=image/jpeg:https://iimono.town/wp-content/uploads/2025/02/00880e92e39f015c3bbb970e93872f90-6.jpg
END:VEVENT
BEGIN:VEVENT
DTSTART;TZID=Asia/Tokyo:20260208T093000
DTEND;TZID=Asia/Tokyo:20260208T120000
DTSTAMP:20260422T023858
CREATED:20251225T032323Z
LAST-MODIFIED:20251225T032323Z
UID:170069-1770543000-1770552000@iimono.town
SUMMARY:「備えあれば憂いなし」防災公開講座（全3回）阪神・淡路大震災から30年
DESCRIPTION:神戸医療未来大学では、阪神・淡路大震災から30年という節目に合わせ、日常生活の中で楽しく実践できる防災の知恵を学ぶ「公開講座：備えあれば憂いなし」を開催いたします。 \n「何から備えればいいかわからない」「家族で防災について考えたい」という方にぴったりの、体験型ワークショップを中心とした講座です。各専門分野の教員が、今日から役立つノウハウを分かりやすくお伝えします。 \n \n講座ラインナップ（全3回）\n※1回のみの単発参加も大歓迎です！ \n\n\n\n会場\n神戸医療未来大学\n神戸三宮サテライトキャンパス（日本経済大学内）MAP\n\n\n参加費\n500円／回（小学生以下無料）\n\n\n定員\n20名／回\n\n\n\n第1回：新聞紙が防災グッズに変身！今日から役立つ知恵を学ぼう\n\n日時： 2026年2月8日（日）\n講師： 正井 佐知 氏（人間科学博士）\n内容： 災害時の水不足や寒さ対策に。新聞紙を使った食器作りや紙スリッパ作りを体験します。役立つお土産付き\n\n第2回：家族みんなで備える！“食べる防災”実践ワークショップ\n\n日時： 2026年2月14日（土）\n講師： 井上 なぎさ 氏（管理栄養士／公認スポーツ栄養士）\n内容： 非常食の試食・アレンジ体験。子どもからシニアまで、各世代に必要な栄養確保のポイントを楽しく学びます。\n\n第3回：ちょこっと足裏エクササイズを体験してみませんか？\n\n日時： 2026年2月22日（日）\n講師： 辻 慎太郎 氏（健康科学博士）\n内容： 避難所生活等でのエコノミークラス症候群の予防に。自宅のスキマ時間で手軽にできる足裏刺激で、健康を守る方法を伝授します。\n\nお申し込み方法\n事前申込制です。以下の事項を添えて、QRコード・電話・FAX・メールのいずれかでお申し込みください。 \n\n氏名\n住所\n年齢\n電話番号\n希望講座\n申込締切： 2026年1月10日（土）\n\nお問合せ先： 神戸医療未来大学（姫路キャンパス）\n\nTEL：0790-22-2620\nFAX：0790-23-0662\nMail：（担当：小田）\n\n \n 
URL:https://iimono.town/event/%e3%80%8c%e5%82%99%e3%81%88%e3%81%82%e3%82%8c%e3%81%b0%e6%86%82%e3%81%84%e3%81%aa%e3%81%97%e3%80%8d%e9%98%b2%e7%81%bd%e5%85%ac%e9%96%8b%e8%ac%9b%e5%ba%a7%ef%bc%88%e5%85%a83%e5%9b%9e%ef%bc%89%e9%98%aa/
LOCATION:神戸医療未来大学 神戸三宮サテライトキャンパス
CATEGORIES:兵庫県
ATTACH;FMTTYPE=image/jpeg:https://iimono.town/wp-content/uploads/2025/12/S__22306842.jpg
END:VEVENT
END:VCALENDAR