BEGIN:VCALENDAR
VERSION:2.0
PRODID:-//いいものタウン - ECPv6.3.7//NONSGML v1.0//EN
CALSCALE:GREGORIAN
METHOD:PUBLISH
X-ORIGINAL-URL:https://iimono.town
X-WR-CALDESC:いいものタウン のイベント
REFRESH-INTERVAL;VALUE=DURATION:PT1H
X-Robots-Tag:noindex
X-PUBLISHED-TTL:PT1H
BEGIN:VTIMEZONE
TZID:Asia/Tokyo
BEGIN:STANDARD
TZOFFSETFROM:+0900
TZOFFSETTO:+0900
TZNAME:JST
DTSTART:20260101T000000
END:STANDARD
END:VTIMEZONE
BEGIN:VEVENT
DTSTART;TZID=Asia/Tokyo:20260314T090000
DTEND;TZID=Asia/Tokyo:20260531T170000
DTSTAMP:20260422T105525
CREATED:20260309T024138Z
LAST-MODIFIED:20260309T024138Z
UID:172276-1773478800-1780246800@iimono.town
SUMMARY:春のうきうきフェア2026│加西市
DESCRIPTION:3月14日から、フラワーセンターにて「春のうきうきフェア」が開催されます。\nチューリップまつりやネモフィラ展など、様々なイベントが実施されます。 \n\n\n\n開催期間\n2026年3月14日(土)～5月31日(日)\n【チューリップまつり】3月14日(土)～4月19日(日)\n【ネモフィラ展】4月18日（土）～5月6日（水祝）\n\n\n場所\n兵庫県立フラワーセンター
URL:https://iimono.town/event/%e6%98%a5%e3%81%ae%e3%81%86%e3%81%8d%e3%81%86%e3%81%8d%e3%83%95%e3%82%a7%e3%82%a22026%e2%94%82%e5%8a%a0%e8%a5%bf%e5%b8%82/
LOCATION:兵庫県立フラワーセンター\, 〒675-2103 兵庫県加西市豊倉町飯森1282‐1
CATEGORIES:加西市
ATTACH;FMTTYPE=image/jpeg:https://iimono.town/wp-content/uploads/2026/03/00880e92e39f015c3bbb970e93872f90-12.jpg
END:VEVENT
BEGIN:VEVENT
DTSTART;TZID=Asia/Tokyo:20260404T090000
DTEND;TZID=Asia/Tokyo:20260607T163000
DTSTAMP:20260422T105525
CREATED:20260410T051113Z
LAST-MODIFIED:20260410T051113Z
UID:174211-1775293200-1780849800@iimono.town
SUMMARY:松岡映丘画稿展 ～令和８年の干支 “午” ～│福崎町
DESCRIPTION:4月4日～6月7日の期間に、福崎町立柳田國男・松岡家記念館にて「松岡映丘画稿展～令和８年の干支 “午” ～」が開催されます。映丘が得意とした武者絵にも描かれた、令和8年の干支 “午” を題材にした作品を紹介します。 \n奈古曽の関（八千荘コレクション） \n\n\n\n開催期間\n令和8年4月4日（土）～6月7日（日）\n9:00～16:30（入館は16:00まで）\n\n\n場所\n福崎町立柳田國男・松岡家記念館\n\n\n\n 
URL:https://iimono.town/event/%e6%9d%be%e5%b2%a1%e6%98%a0%e4%b8%98%e7%94%bb%e7%a8%bf%e5%b1%95-%ef%bd%9e%e4%bb%a4%e5%92%8c%ef%bc%98%e5%b9%b4%e3%81%ae%e5%b9%b2%e6%94%af-%e5%8d%88-%ef%bd%9e%e2%94%82%e7%a6%8f/
LOCATION:福崎町立柳田國男・松岡家記念館\, 679-2204 兵庫県神崎郡福崎町西田原１０３８
CATEGORIES:福崎町
ATTACH;FMTTYPE=image/jpeg:https://iimono.town/wp-content/uploads/2026/04/1-2.jpg
END:VEVENT
BEGIN:VEVENT
DTSTART;TZID=Asia/Tokyo:20260516T100000
DTEND;TZID=Asia/Tokyo:20260517T170000
DTSTAMP:20260422T105525
CREATED:20260317T011954Z
LAST-MODIFIED:20260317T011954Z
UID:172686-1778925600-1779037200@iimono.town
SUMMARY:2026 ひめじアーティストフェスティバル│姫路市
DESCRIPTION:5月16日、17日にシロトピア記念公園にて「2026 ひめじアーティストフェスティバル」が開催されます。\n全国から168名の手づくり作家が出展。作家による実演やワークショップも開催。会場内にはフード・ドリンクコーナーも。 \n\n\n\n開催日時\n2026年5月16日(土) / 10:00～17:00\n2026年5月17日(日) / 10:00～16:00\n\n\n場所\nシロトピア記念公園\n\n\n\n \n 
URL:https://iimono.town/event/2026-%e3%81%b2%e3%82%81%e3%81%98%e3%82%a2%e3%83%bc%e3%83%86%e3%82%a3%e3%82%b9%e3%83%88%e3%83%95%e3%82%a7%e3%82%b9%e3%83%86%e3%82%a3%e3%83%90%e3%83%ab%e2%94%82%e5%a7%ab%e8%b7%af%e5%b8%82/
LOCATION:シロトピア記念公園\, 670-0012　​兵庫県姫路市本町68番地
CATEGORIES:姫路市
ATTACH;FMTTYPE=image/jpeg:https://iimono.town/wp-content/uploads/2026/03/00880e92e39f015c3bbb970e93872f90-19.jpg
END:VEVENT
BEGIN:VEVENT
DTSTART;TZID=Asia/Tokyo:20260522T000000
DTEND;TZID=Asia/Tokyo:20260524T000000
DTSTAMP:20260422T105525
CREATED:20260227T084953Z
LAST-MODIFIED:20260227T084953Z
UID:171936-1779408000-1779580800@iimono.town
SUMMARY:第76回 姫路お城まつり│姫路市
DESCRIPTION:5月22日～24日の期間、「第76回 姫路お城まつり」が開催されます。 \n\n\n\n開催日\n2026年5月22日（金）～24日（日）\n\n\n\n内容\n5月22日(金)\n第55回姫路城薪能\n親子教室発表会 \n5月23日(土)\n姫路大名行列\n子ども大名・千姫輿入れ行列\nキャッスルパレード\nステージイベント\n総踊り等 \n5月24日(日)\n第25回ひめじ良さ恋まつり\nサウンドフェスティバル2026\nキッズイベント等 \n※実施イベントは予定です
URL:https://iimono.town/event/%e7%ac%ac76%e5%9b%9e-%e5%a7%ab%e8%b7%af%e3%81%8a%e5%9f%8e%e3%81%be%e3%81%a4%e3%82%8a%e2%94%82%e5%a7%ab%e8%b7%af%e5%b8%82/
LOCATION:姫路城\, 670-0012 兵庫県姫路市本町６８
CATEGORIES:姫路市
ATTACH;FMTTYPE=image/jpeg:https://iimono.town/wp-content/uploads/2026/02/postar.jpg
END:VEVENT
BEGIN:VEVENT
DTSTART;TZID=Asia/Tokyo:20260614T103000
DTEND;TZID=Asia/Tokyo:20260614T150000
DTSTAMP:20260422T105525
CREATED:20260409T015145Z
LAST-MODIFIED:20260409T015145Z
UID:174128-1781433000-1781449200@iimono.town
SUMMARY:第18回 福崎さるびあマルシェ│福崎町
DESCRIPTION:6月14日に、さるびあドームにて「第18回 福崎さるびあマルシェ」が開催されます。 \n\n\n\n開催日時\n2026年6月14日（日）10:30～15:00\n\n\n場所\nさるびあドーム\n\n\n\n 
URL:https://iimono.town/event/%e7%ac%ac18%e5%9b%9e-%e7%a6%8f%e5%b4%8e%e3%81%95%e3%82%8b%e3%81%b3%e3%81%82%e3%83%9e%e3%83%ab%e3%82%b7%e3%82%a7%e2%94%82%e7%a6%8f%e5%b4%8e%e7%94%ba/
LOCATION:さるびあドーム\, 679-2215 兵庫県神崎郡福崎町西治２８４−３
CATEGORIES:福崎町
ATTACH;FMTTYPE=image/jpeg:https://iimono.town/wp-content/uploads/2018/11/IMG_5319.jpg
END:VEVENT
END:VCALENDAR