BEGIN:VCALENDAR
VERSION:2.0
PRODID:-//いいものタウン - ECPv6.3.7//NONSGML v1.0//EN
CALSCALE:GREGORIAN
METHOD:PUBLISH
X-WR-CALNAME:いいものタウン
X-ORIGINAL-URL:https://iimono.town
X-WR-CALDESC:いいものタウン のイベント
REFRESH-INTERVAL;VALUE=DURATION:PT1H
X-Robots-Tag:noindex
X-PUBLISHED-TTL:PT1H
BEGIN:VTIMEZONE
TZID:Asia/Tokyo
BEGIN:STANDARD
TZOFFSETFROM:+0900
TZOFFSETTO:+0900
TZNAME:JST
DTSTART:20250101T000000
END:STANDARD
END:VTIMEZONE
BEGIN:VEVENT
DTSTART;TZID=Asia/Tokyo:20251101T000000
DTEND;TZID=Asia/Tokyo:20260215T000000
DTSTAMP:20260422T013022
CREATED:20251027T071245Z
LAST-MODIFIED:20251027T071245Z
UID:166799-1761955200-1771113600@iimono.town
SUMMARY:しそう発酵フェア2025│宍粟市
DESCRIPTION:地元の酒蔵の酒粕や米麹を使って考案したプリンやケーキなどのスイーツのほか、和食洋食の様々なメニューが楽しめる「しそう発酵フェア2025」が開催されます。期間後半は、味噌づくり体験も実施されます。\n詳細はホームページをチェック！ \n\n\n\n開催期間\n2025年11月1日（土）～2026年2月15日（日）\n\n\n\n内容\n・味噌づくり体験\n・最上山もみじ祭りブース出店\n・プレゼント企画
URL:https://iimono.town/event/%e3%81%97%e3%81%9d%e3%81%86%e7%99%ba%e9%85%b5%e3%83%95%e3%82%a7%e3%82%a22025%e2%94%82%e5%ae%8d%e7%b2%9f%e5%b8%82/
CATEGORIES:宍粟市
ATTACH;FMTTYPE=image/jpeg:https://iimono.town/wp-content/uploads/2025/10/1-8.jpg
END:VEVENT
BEGIN:VEVENT
DTSTART;TZID=Asia/Tokyo:20251101T090000
DTEND;TZID=Asia/Tokyo:20251226T160000
DTSTAMP:20260422T013022
CREATED:20251117T021856Z
LAST-MODIFIED:20251117T021856Z
UID:167875-1761987600-1766764800@iimono.town
SUMMARY:万博レガシープロジェクト「サムライとマルタ騎士の鎧」展│姫路市
DESCRIPTION:11月1日～12月26日の期間、姫路城「リの一渡櫓」にて「万博レガシープロジェクト「サムライとマルタ騎士の鎧」展」が開催されます。 \n大阪・関西万博のマルタ共和国パビリオンで展示されていた日本の甲冑とマルタ騎士団の西洋の鎧を姫路城「リの一渡櫓」で展示されます。展示する甲冑の一領が、姫路にゆかりの深い酒井家所蔵と言われていることや、持続可能な開発目標 (SDGs)の達成への意識など万博のレガシーが、17世紀当初より姫路城で受け継がれてきた伝統技術とも通じることから、姫路城内で公開することとなりました。 \n\n\n\n開催日時\n2025年11月1日(土)～12月26日(金)\n\n\n場所\n姫路城「リの一渡櫓」\n\n\n料金\n無料　※但し、姫路城縦覧料が必要\n\n\n\n展示品\n日本の甲冑\n姫路にゆかりの深い酒井家所蔵の可能性がある甲冑1領を含む3領 (福沢諭吉ら文久遣欧使節団が、1862年に英国領マルタを訪れた際に総督に贈ったもの) \n1.　鉄黒漆塗紺糸素懸威最上胴具足、鉄黒漆塗十六間大円山形筋兜、面頬、臑当\n2.　黒鉄漆塗縦矧桶側二枚道具足鉄黒漆塗三十二間筋兜付\n3.　錆地塗練革伊予札紺糸菱綴丸胴具足 兜付 \nマルタ騎士団の鎧など\n・フランス騎兵隊甲冑 (約1610年)、軍用スウェプト・ヒルト、ガード、レイピア\n・新石器時代の座像 (通称“ふくよかな女性”、レプリカ)\n・マジュの石 (レプリカ)\n・マルタのキップス (レプリカ)
URL:https://iimono.town/event/%e4%b8%87%e5%8d%9a%e3%83%ac%e3%82%ac%e3%82%b7%e3%83%bc%e3%83%97%e3%83%ad%e3%82%b8%e3%82%a7%e3%82%af%e3%83%88%e3%80%8c%e3%82%b5%e3%83%a0%e3%83%a9%e3%82%a4%e3%81%a8%e3%83%9e%e3%83%ab%e3%82%bf%e9%a8%8e/
LOCATION:姫路城\, 670-0012 兵庫県姫路市本町６８
CATEGORIES:姫路市
ATTACH;FMTTYPE=image/jpeg:https://iimono.town/wp-content/uploads/2023/07/012.jpg
END:VEVENT
BEGIN:VEVENT
DTSTART;TZID=Asia/Tokyo:20251122T110000
DTEND;TZID=Asia/Tokyo:20251228T220000
DTSTAMP:20260422T013022
CREATED:20251111T023740Z
LAST-MODIFIED:20251111T023740Z
UID:167554-1763809200-1766959200@iimono.town
SUMMARY:Hitotoki Christmas（ひとときクリスマス）│姫路市
DESCRIPTION:今年も大切なひとと特別なひとときを姫路で過ごしていただきたいという願いを込めて、「Hitotoki Christmas (ひとときクリスマス)」と題し、イルミネーションに加えてクリスマスマーケットが開催されます。 \n開催内容\nイルミネーション\n姫路駅北にぎわい交流広場を中心にイルミネーションによる空間演出を行い、冬の駅前エリアを華やかに彩ります。メイン会場となる駅前芝生広場には5メートルのクリスマスツリーや北欧の民間伝承の妖精トントゥのオブジェを設置し、効果音や参加者のアクションに連動した演出により、クリスマスムードを醸成します。 \n\n\n\n日時\n2025年11月22日(土)～12月28日(日)　17:00～22:00\n\n\n場所\n姫路駅北にぎわい交流広場（駅前芝生広場・キャッスルガーデン）\n姫路駅北交通広場（ピオレ1北側）\n\n\n\nクリスマスマーケット\n会場は赤やゴールドを基調とし、クリスマスツリー等の設置により、本場のクリスマスマーケットに訪れたかのような上質な空間を演出。また、プレッツェルやシュトーレン、温かいスープ等、クリスマスらしいフードや雑貨が楽しめます。 \n\n\n\n日時\n2025年12月19日(金)　16:00～21:00\n2025年12月20日(土)・21日(日)　11:00～21:00\n\n\n場所\n姫路大手前公園・姫路駅北交通広場（ピオレ1北側屋外通路）\n\n\n参加料\n無料（各店舗での支払いあり）\n\n\n出店予定数\n大手前公園：各日18店舗\n姫路駅北交通広場（ピオレ1北側屋外通路）：各日8店舗
URL:https://iimono.town/event/hitotoki-christmas%ef%bc%88%e3%81%b2%e3%81%a8%e3%81%a8%e3%81%8d%e3%82%af%e3%83%aa%e3%82%b9%e3%83%9e%e3%82%b9%ef%bc%89%e2%94%82%e5%a7%ab%e8%b7%af%e5%b8%82/
LOCATION:姫路駅北にぎわい交流広場
CATEGORIES:姫路市
ATTACH;FMTTYPE=image/jpeg:https://iimono.town/wp-content/uploads/2025/11/1-2.jpg
END:VEVENT
BEGIN:VEVENT
DTSTART;TZID=Asia/Tokyo:20251122T170000
DTEND;TZID=Asia/Tokyo:20260222T220000
DTSTAMP:20260422T013022
CREATED:20251015T052216Z
LAST-MODIFIED:20251015T052216Z
UID:166508-1763830800-1771797600@iimono.town
SUMMARY:Himeji大手前通りイルミネーション│姫路市
DESCRIPTION:大阪・関西万博期間中に実施している大手前通りイルミネーションが、冬季期間も引き続き開催されます。 \n\n\n\n開催日時\n2025年11月22日(土)～2026年2月22日(日)　17:00～22:00\n※週末 (金・土・日曜日)、祝日などは～24:00まで\n\n\n場所\n大手前通り (姫路駅前～姫路城前)、大手前公園および家老屋敷跡公園の一部\n\n\n\nイベント内容\nJR姫路駅と姫路城を一直線に結ぶ大手前通りを上質なイルミネーションで華やかに彩るイベント「Himeji大手前通りイルミネーション」。3度目となる今年も世界的照明デザイナーでもある石井幹子氏監修のもと、実施エリアを約25万球のフルカラーLEDで装飾し、姫路城の彩雲ライトアップと連動した統一感のある光の演出を行います。 \nテーマ「あたら夜」\n \n石井幹子氏監修のもと、「あたら夜」（明けるのが惜しいほどの美しい夜）をテーマに、約25万球のフルカラーLEDを用いて、時間毎に色、動きがさまざまに変化するイルミネーション演出を行います。また、姫路城の彩雲ライトアップと連動した統一感のある演出が行われます。\nクリスマス・正月等の期間には特別カラー演出が行われます。 \n \n好評だった「白鷺をイメージした駅前のフォトスポット」が設置されるほか、大手前通りのシャッターや壁面をキャンパスとしたフォトジェニックスポットが設置され、カップルや女性、ファミリーなどさまざまな方に楽しんでもらえる演出も。 \n季節・時間ごとに変化するイルミネーションプログラム\nフルカラーLEDを用いて時間ごとに色、動きがさまざまに変化することが特徴となっており、姫路城の彩雲ライトアップと連動した統一感のある演出が行われます。カラーパターンは毎月変化し、クリスマス・正月・バレンタイン等の期間には特別なカラーで演出されます。 \n歩行者天国の実施\nイルミネーション期間中の下記日程は大手前通りの一部 (大手前交差点～姫路城前交差点)が歩行者天国になります。歩行者天国時のみの特別な演出やイベントの開催も予定。道の真ん中で姫路城とイルミネーションを同一視野で楽しめる非日常空間をお楽しみください。 \n\n\n\n2025年11月22日（土）、23日（日）\nひめじアートシーズンのイベントとして、ギターやピアノの弾き語り等のアーティストによる演奏のほか、ダンス、書道等のパフォーマンスを予定\n\n\n2025年12月20日（土）、21日（日）\n後述のHitotoki Christmasと一体となり、クリスマスの雰囲気を演出するため、キッチンカーの展開や会場装飾、フォトスポットの設置及びワークショップの実施を予定\n\n\n\n点灯セレモニーの開催\n \n11月22日（土）、歩行者天国内にて点灯セレモニーを実施し、併せて「いい夫婦の日」にちなんだイベントが行われます。 \n・99本の向日葵を持っての記念撮影（手を繋いで来場された先着50組を対象に、プロのカメラマンが記念撮影）\n・約2\,000本のバラをJR姫路駅前で配布（午後4時より配布予定）\n配布するバラは、株式会社JFT姫路生花様（姫路市御国野町深志野300）より提供いただきます。 \nまちなかイルミネーション\n大手前通りイルミネーションに合わせ、姫路駅北にぎわい交流広場や、まちなかの商店街、民間事業者と連携して各施設でイルミネーションやライトアップが実施されます。 \nまちなかイルミネーション参加事業者（予定）\n・アクリエひめじ・山陽百貨店・テラッソ姫路・西二階町商店街・ピオレ姫路・姫路駅前商店街・姫路フェスタ・みゆき通り商店街 \n 
URL:https://iimono.town/event/himeji%e5%a4%a7%e6%89%8b%e5%89%8d%e9%80%9a%e3%82%8a%e3%82%a4%e3%83%ab%e3%83%9f%e3%83%8d%e3%83%bc%e3%82%b7%e3%83%a7%e3%83%b3%e2%94%82%e5%a7%ab%e8%b7%af%e5%b8%82/
LOCATION:姫路大手前通り
CATEGORIES:姫路市
ATTACH;FMTTYPE=image/jpeg:https://iimono.town/wp-content/uploads/2025/10/00880e92e39f015c3bbb970e93872f90-19.jpg
END:VEVENT
BEGIN:VEVENT
DTSTART;TZID=Asia/Tokyo:20251218T100000
DTEND;TZID=Asia/Tokyo:20251229T190000
DTSTAMP:20260422T013022
CREATED:20251210T043115Z
LAST-MODIFIED:20251210T043115Z
UID:169229-1766052000-1767034800@iimono.town
SUMMARY:昭和平成レトロ展│姫路市
DESCRIPTION:12月18日～29日の期間、山陽百貨店にて「昭和平成レトロ展」が開催されます。 \n\n\n\n開催期間\n2025年12月18日（木）～29日（月）\n\n\n営業時間\n10:00～19:00　※最終日は16:00閉場\n\n\n場所\n姫路 山陽百貨店　本館6階　催し会場\n\n\n入場料\n500円（縁日コーナー1回参加券付き）\n小学生以下は無料（保護者同伴必須）
URL:https://iimono.town/event/%e6%98%ad%e5%92%8c%e5%b9%b3%e6%88%90%e3%83%ac%e3%83%88%e3%83%ad%e5%b1%95%e2%94%82%e5%a7%ab%e8%b7%af%e5%b8%82/
LOCATION:山陽百貨店\, 670-0912 兵庫県姫路市南町１
CATEGORIES:姫路市
ATTACH;FMTTYPE=image/jpeg:https://iimono.town/wp-content/uploads/2025/12/G7x4wp8bEAAYomW.jpg
END:VEVENT
BEGIN:VEVENT
DTSTART;TZID=Asia/Tokyo:20251227T100000
DTEND;TZID=Asia/Tokyo:20251228T163000
DTSTAMP:20260422T013022
CREATED:20251208T084603Z
LAST-MODIFIED:20251208T084603Z
UID:169108-1766829600-1766939400@iimono.town
SUMMARY:播州姫路縁日│姫路市
DESCRIPTION:12月27日・28日に、大手前公園にて「播州姫路縁日」が開催されます。\n両日合わせて 約260店舗が集結！1日中遊べる、学べる、食べられるイベントです♪ \n\n\n\n開催日時\n2025年12月27日（土）・28日（日）10:00〜16:30\n小雨決行・荒天中止\n\n\n場所\n大手前公園\n\n\n\n内容\n・キッチンカー＆飲食店\n・ハンドメイド、ワークショップ\n・トライやキッズ（社会体験学習）\n・逆バンジー、ふわふわ遊具、ふわふわ迷路\n・乗り物ブース、豚＆馬との動物ふれあい、移動水族館\n・ステージイベント（和太鼓・よさこい・エイサー・ダンス・歌など多数出演）\n・鮪の解体ショー\n・こども縁日（射的・くじ引き etc.）
URL:https://iimono.town/event/%e6%92%ad%e5%b7%9e%e5%a7%ab%e8%b7%af%e7%b8%81%e6%97%a5%e2%94%82%e5%a7%ab%e8%b7%af%e5%b8%82/
LOCATION:大手前公園\, 670-0012 兵庫県姫路市本町68番地24-1
CATEGORIES:姫路市
ATTACH;FMTTYPE=image/jpeg:https://iimono.town/wp-content/uploads/2025/12/IMG_8189.jpeg
END:VEVENT
BEGIN:VEVENT
DTSTART;TZID=Asia/Tokyo:20251227T120000
DTEND;TZID=Asia/Tokyo:20251227T190000
DTSTAMP:20260422T013022
CREATED:20251223T021925Z
LAST-MODIFIED:20251223T021925Z
UID:169990-1766836800-1766862000@iimono.town
SUMMARY:KAMIFes.│神河町
DESCRIPTION:12月27日に、桜空にて「KAMIFes.」が開催されます。 \n\n\n\n開催日時\n2025年12月27日（土）12:00〜19:00\n\n\n場所\nコミュニティ図書公園「桜空」芝生広場\n\n\n\n内容\n・ライトアップしゃぼん玉パフォーマンス\n・神崎郡最大級の大型遊具\n・GOGOサーキット\n・移動型KidsPark ASOBI.\n・ハンドメイド＆ワークショップ\n・人気キッチンカー
URL:https://iimono.town/event/kamifes-%e2%94%82%e7%a5%9e%e6%b2%b3%e7%94%ba/
LOCATION:神河町図書コミュニティ公園「桜空」\, 679-3116　兵庫県神崎郡神河町粟賀町561
CATEGORIES:神河町
ATTACH;FMTTYPE=image/jpeg:https://iimono.town/wp-content/uploads/2023/04/KAMIFes.jpg
END:VEVENT
BEGIN:VEVENT
DTSTART;TZID=Asia/Tokyo:20251228T113000
DTEND;TZID=Asia/Tokyo:20251228T113000
DTSTAMP:20260422T013022
CREATED:20251225T013205Z
LAST-MODIFIED:20251225T013205Z
UID:170058-1766921400-1766921400@iimono.town
SUMMARY:干支の引継ぎ式│神河町
DESCRIPTION:12月28日に、ヨーデルの森にて「干支の引継ぎ式」が開催されます。\nお正月衣装のミニチュアホース・コロくんと一緒に、記念撮影もできます。 \n\n\n\n開催日時\n2025年12月28日（日）11:30～\n\n\n場所\n神崎農村公園ヨーデルの森
URL:https://iimono.town/event/%e5%b9%b2%e6%94%af%e3%81%ae%e5%bc%95%e7%b6%99%e3%81%8e%e5%bc%8f%e2%94%82%e7%a5%9e%e6%b2%b3%e7%94%ba/
LOCATION:神崎農村公園 ヨーデルの森\, 兵庫県神崎郡神河町猪篠１８６８\, 679-2431
CATEGORIES:神河町
ATTACH;FMTTYPE=image/jpeg:https://iimono.town/wp-content/uploads/2021/03/028.jpg
END:VEVENT
BEGIN:VEVENT
DTSTART;TZID=Asia/Tokyo:20260101T090000
DTEND;TZID=Asia/Tokyo:20260101T090000
DTSTAMP:20260422T013022
CREATED:20251216T022232Z
LAST-MODIFIED:20251216T022232Z
UID:169563-1767258000-1767258000@iimono.town
SUMMARY:【山東地域】元旦マラソン・ウォーキング│朝来市
DESCRIPTION:令和8年1月1日に、山東地域恒例の元旦マラソン・ウォーキングが開催されます。 \n\n\n\n開催日\n2026年1月1日（木・元日）\n\n\n時間\n受付開始：８時30分～\n開会式 ：９時～\nスタート：９時15分\n（マラソンの部のスタート後、ウォーキングの部がスタート）\n\n\n受付会場\n旧山東生涯学習センター前駐車場\n\n\nコース\n旧山東生涯学習センター ～ 粟鹿川沿い折り返し\n・マラソンの部　往復3km\n・ウォーキングの部　往復1.5km\n※道路左側を走る、または歩いてください。
URL:https://iimono.town/event/%e3%80%90%e5%b1%b1%e6%9d%b1%e5%9c%b0%e5%9f%9f%e3%80%91%e5%85%83%e6%97%a6%e3%83%9e%e3%83%a9%e3%82%bd%e3%83%b3%e3%83%bb%e3%82%a6%e3%82%a9%e3%83%bc%e3%82%ad%e3%83%b3%e3%82%b0%e2%94%82%e6%9c%9d%e6%9d%a5/
LOCATION:旧山東生涯学習センター前駐車場\, 朝来市山東町末歳729-3
CATEGORIES:朝来市
ATTACH;FMTTYPE=image/jpeg:https://iimono.town/wp-content/uploads/2025/12/00880e92e39f015c3bbb970e93872f90-13.jpg
END:VEVENT
BEGIN:VEVENT
DTSTART;TZID=Asia/Tokyo:20260101T173000
DTEND;TZID=Asia/Tokyo:20260103T180000
DTSTAMP:20260422T013022
CREATED:20251215T001954Z
LAST-MODIFIED:20251215T001954Z
UID:169470-1767288600-1767463200@iimono.town
SUMMARY:姫路セントラルパーク サンクスランタン2026│姫路市
DESCRIPTION:2026年1月1日(木)、2日(金)、3日（土）のお正月3日間限定で熱気球型LEDランタンを打ち上げる『サンクスランタン2026』が姫路セントラルパークの遊園地エリアで開催されます。 \n\n\n\n開催日\n2026年1月1日（木）、2日(金)、3日(土)\n\n\n時間\nランタン打ち上げ17:30予定\n\n\n場所\n姫路セントラルパーク遊園地エリア
URL:https://iimono.town/event/%e5%a7%ab%e8%b7%af%e3%82%bb%e3%83%b3%e3%83%88%e3%83%a9%e3%83%ab%e3%83%91%e3%83%bc%e3%82%af-%e3%82%b5%e3%83%b3%e3%82%af%e3%82%b9%e3%83%a9%e3%83%b3%e3%82%bf%e3%83%b32026%e2%94%82%e5%a7%ab%e8%b7%af/
LOCATION:姫路セントラルパーク
CATEGORIES:姫路市
ATTACH;FMTTYPE=image/jpeg:https://iimono.town/wp-content/uploads/2025/12/main-11.jpg
END:VEVENT
BEGIN:VEVENT
DTSTART;TZID=Asia/Tokyo:20260104T010000
DTEND;TZID=Asia/Tokyo:20260104T050000
DTSTAMP:20260422T013022
CREATED:20251230T110020Z
LAST-MODIFIED:20251230T110020Z
UID:170243-1767488400-1767502800@iimono.town
SUMMARY:しぶんぎ座流星群 2026
DESCRIPTION:2026年の幕開けを飾る「三大流星群」のひとつ、しぶんぎ座流星群が極大を迎えます。 キリッと澄んだ冬の夜空に、新年の願いを込めて流れ星を探してみませんか？ \nいつ見える？\n\n見頃のピーク：2026年1月4日（日） 午前5時頃\n観察推奨時間：1月4日 深夜1時〜夜明けまで\n\n1月4日の早朝6時頃に活動が最も活発（極大）になります。東京周辺では、空が明るくなる直前の「5時前後」が一番のチャンスです。 \n観察のポイント\n\n方角： どこからでも流れます。空を広く見渡しましょう。\n月対策： 満月直後の明るい月が空にあります。「月を背にして」暗い方向を眺めるのがコツです。\n準備： 暗さに目が慣れるまで15分は観察を。レジャーシートやリクライニングチェアがあると楽な姿勢で楽しめます。\n\n\n2026年最初の願い事を空に！「しぶんぎ座流星群」の見どころ＆観察のコツ
URL:https://iimono.town/event/quadrantids-2026/
LOCATION:日本
CATEGORIES:全国
ATTACH;FMTTYPE=image/jpeg:https://iimono.town/wp-content/uploads/2018/12/topics02-m.jpg
END:VEVENT
BEGIN:VEVENT
DTSTART;TZID=Asia/Tokyo:20260106T100000
DTEND;TZID=Asia/Tokyo:20260331T170000
DTSTAMP:20260422T013022
CREATED:20251229T005814Z
LAST-MODIFIED:20251229T005814Z
UID:170199-1767693600-1774976400@iimono.town
SUMMARY:新春特別展「根付＜NETSUKE＞－手のひらの宇宙」
DESCRIPTION:豊かな自然に囲まれた「姫路市書写の里・美術工芸館」で新春特別展「根付＜NETSUKE＞－手のひらの宇宙」が開催されます。 \n \n新春特別展「根付＜NETSUKE＞－手のひらの宇宙」\n\n\n\n \n\n\n\n会期 令和8年1月6日（火曜日）～3月31日（火曜日）\n会場 姫路市書写の里・美術工芸館\n通常開館終了 令和8年3月末予定\nお問い合わせ 姫路市書写の里・美術工芸館\n\n\n\n \n\n\n \n\n\n \n\n\n\n\n\n開館時間\n午前10時から午後5時（入館は午後4時30分まで）\n\n\n休館日\n月曜日（休日を除く）、休日の翌日（土・日・休日を除く）、年末年始（12月25日から1月5日）\n※その他詳細は「書写の里・美術工芸館」までご確認ください\n\n\n入館料\n\n大人の方が500円、大学生・高校生は300円、そして小・中学生はわずか70円と、とても気軽に立ち寄れる設定です。20名以上の団体で利用される場合は、さらにお得な割引（大人400円、大学・高校生240円、小・中学生50円）も用意されています。
URL:https://iimono.town/event/%e6%96%b0%e6%98%a5%e7%89%b9%e5%88%a5%e5%b1%95%e3%80%8c%e6%a0%b9%e4%bb%98%ef%bc%9cnetsuke%ef%bc%9e%ef%bc%8d%e6%89%8b%e3%81%ae%e3%81%b2%e3%82%89%e3%81%ae%e5%ae%87%e5%ae%99%e3%80%8d/
LOCATION:書写の里・美術工芸館
CATEGORIES:姫路市
ATTACH;FMTTYPE=image/jpeg:https://iimono.town/wp-content/uploads/2025/12/sub2-13.jpg
END:VEVENT
BEGIN:VEVENT
DTSTART;TZID=Asia/Tokyo:20260110T000000
DTEND;TZID=Asia/Tokyo:20260111T000000
DTSTAMP:20260422T013022
CREATED:20260107T023333Z
LAST-MODIFIED:20260107T023333Z
UID:170425-1768003200-1768089600@iimono.town
SUMMARY:戎神社大祭│加西市
DESCRIPTION:1月10日、11日に、大年神社（加西市）にて戎神社大祭が開催されます。\n商売繁盛、家内安全、開運の祈願にたくさんの参拝者が訪れるお祭りです。\n吉兆・熊手・福俵などの縁起物の販売や空くじなしの大福引では豪華賞品がゲットできるチャンスも！ \n\n\n\n開催日時\n2026年1月10日（土）、11日（日）\n\n\n場所\n大年神社
URL:https://iimono.town/event/%e6%88%8e%e7%a5%9e%e7%a4%be%e5%a4%a7%e7%a5%ad%e2%94%82%e5%8a%a0%e8%a5%bf%e5%b8%82/
LOCATION:大年神社\, 675-2312 兵庫県加西市北条町北条９７０
CATEGORIES:加西市
ATTACH;FMTTYPE=image/jpeg:https://iimono.town/wp-content/uploads/2026/01/02.jpg
END:VEVENT
BEGIN:VEVENT
DTSTART;TZID=Asia/Tokyo:20260111T093000
DTEND;TZID=Asia/Tokyo:20260111T120000
DTSTAMP:20260422T013022
CREATED:20251120T025233Z
LAST-MODIFIED:20251120T025233Z
UID:168099-1768123800-1768132800@iimono.town
SUMMARY:令和8年 姫路市消防出初式│姫路市
DESCRIPTION:1月11日に、姫路城三の丸広場にて、新春恒例行事「消防出初式」が開催されます。 \n\n\n\n開催日時\n2026年1月11日（日） 9:30～11:50\n\n\n場所\n姫路城三の丸広場\n\n\n\n内容\n・式典の部と演技の2部構成で実施。\n・演技の部では、園児たちによる和太鼓演奏や消防音楽隊の出演ほか。はしご乗り演技やレスキュー演技、フィナーレで一斉放水を披露します。
URL:https://iimono.town/event/%e4%bb%a4%e5%92%8c8%e5%b9%b4-%e5%a7%ab%e8%b7%af%e5%b8%82%e6%b6%88%e9%98%b2%e5%87%ba%e5%88%9d%e5%bc%8f%e2%94%82%e5%a7%ab%e8%b7%af%e5%b8%82/
LOCATION:姫路城三の丸広場
CATEGORIES:姫路市
ATTACH;FMTTYPE=image/jpeg:https://iimono.town/wp-content/uploads/2025/11/G5ybAd9bkAAc6Ui.jpg
END:VEVENT
BEGIN:VEVENT
DTSTART;TZID=Asia/Tokyo:20260111T100000
DTEND;TZID=Asia/Tokyo:20260112T150000
DTSTAMP:20260422T013022
CREATED:20260108T024507Z
LAST-MODIFIED:20260108T024507Z
UID:170440-1768125600-1768230000@iimono.town
SUMMARY:餅もちまつり│宍粟市
DESCRIPTION:1月11日、12日に、道の駅みなみ波賀にて「餅もちまつり」が開催されます。 \n\n\n\n開催日時\n2026年1月11日（日）～12日（月祝）10:00～15:00\n\n\n場所\n道の駅みなみ波賀\n\n\n\nイベント内容\n■餅詰め放題【両日】※無くなり次第終了\n■餅つき大会【両日】\n■餅まき【12日のみ】\n■売店お買い得商品盛りだくさん\n■餅もちフードブース\n・特産波賀ねぎ入り具だくさん雑煮\n・焼き餅\n・ちからうどん\n・名物串こんにゃく
URL:https://iimono.town/event/%e9%a4%85%e3%82%82%e3%81%a1%e3%81%be%e3%81%a4%e3%82%8a%e2%94%82%e5%ae%8d%e7%b2%9f%e5%b8%82/
LOCATION:道の駅みなみ波賀\, 〒671-4241 兵庫県宍粟市波賀町安賀８−１
CATEGORIES:宍粟市
ATTACH;FMTTYPE=image/jpeg:https://iimono.town/wp-content/uploads/2023/05/230422-172813.jpg
END:VEVENT
BEGIN:VEVENT
DTSTART;TZID=Asia/Tokyo:20260117T100000
DTEND;TZID=Asia/Tokyo:20260117T150000
DTSTAMP:20260422T013022
CREATED:20251225T095011Z
LAST-MODIFIED:20251225T095011Z
UID:170107-1768644000-1768662000@iimono.town
SUMMARY:第2回 笠形まちこネギまつり
DESCRIPTION:兵庫県神崎郡市川町の冬の風物詩が今年もやってきます！ 2026年1月17日（土）、天然かさがた温泉せせらぎの湯にて「第2回 笠形まちこネギまつり」が開催されます。 \n昨年初開催され大好評だったこのイベント。 \n地域の伝統野菜「まちこネギ」を主役に、美味しいグルメや心温まる体験が盛りだくさんです。 \n \n「第2回 笠形まちこネギまつり」開催概要\nクリックで拡大 \n\n\n\n開催日時\n2026年1月17日（土）10:00～15:00\n\n\n備考\n雨天決行・売り切れ次第終了\n\n\n会場\n天然かさがた温泉せせらぎの湯 門前物産館前駐車場\n\n\nアクセス\n兵庫県神崎郡市川町上牛尾半瀬2032-1（MAP）\n\n\n\n\n冬の味覚を満喫！笠形まちこネギまつりに行ってきた／市川町
URL:https://iimono.town/event/%e7%ac%ac2%e5%9b%9e-%e7%ac%a0%e5%bd%a2%e3%81%be%e3%81%a1%e3%81%93%e3%83%8d%e3%82%ae%e3%81%be%e3%81%a4%e3%82%8a/
LOCATION:天然かさがた温泉せせらぎの湯\, 上牛尾半瀬2073−１２\, 神崎郡市川町\, 兵庫県\, 679-2301\, 日本
CATEGORIES:市川町
ATTACH;FMTTYPE=image/jpeg:https://iimono.town/wp-content/uploads/2025/02/824.jpg
END:VEVENT
BEGIN:VEVENT
DTSTART;TZID=Asia/Tokyo:20260117T140000
DTEND;TZID=Asia/Tokyo:20260118T200000
DTSTAMP:20260422T013022
CREATED:20260115T024657Z
LAST-MODIFIED:20260115T024657Z
UID:170662-1768658400-1768766400@iimono.town
SUMMARY:ほこみち・ナイト・ストーリー 第5弾イベント イルミネール・ナイト・バル│姫路市
DESCRIPTION:1月17日・1月18日に、山陽百貨店前にて「ほこみち・ナイト・ストーリー 第5弾イベント イルミネール・ナイト・バル」が開催されます。\n地元グルメをはじめ、唐揚げ・チーズボールにドーナツなどの人気メニューが勢揃い！会場にはゆったりくつろげるテーブル＆チェアも設置されています。 \n\n\n\n開催日時\n2026年1月17日（土）・18日（日）14:00～20:00\n\n\n場所\n山陽百貨店前
URL:https://iimono.town/event/%e3%81%bb%e3%81%93%e3%81%bf%e3%81%a1%e3%83%bb%e3%83%8a%e3%82%a4%e3%83%88%e3%83%bb%e3%82%b9%e3%83%88%e3%83%bc%e3%83%aa%e3%83%bc-%e7%ac%ac5%e5%bc%be%e3%82%a4%e3%83%99%e3%83%b3%e3%83%88-%e3%82%a4/
LOCATION:山陽百貨店\, 670-0912 兵庫県姫路市南町１
CATEGORIES:姫路市
ATTACH;FMTTYPE=image/jpeg:https://iimono.town/wp-content/uploads/2026/01/00880e92e39f015c3bbb970e93872f90-7.jpg
END:VEVENT
BEGIN:VEVENT
DTSTART;TZID=Asia/Tokyo:20260120T080000
DTEND;TZID=Asia/Tokyo:20260208T170000
DTSTAMP:20260422T013022
CREATED:20260120T040948Z
LAST-MODIFIED:20260120T040948Z
UID:170716-1768896000-1770570000@iimono.town
SUMMARY:特別展示 妖怪造形品│福崎町
DESCRIPTION:福崎町立図書館にて「特別展示 妖怪造形品」が開催されます。 \n\n\n\n開催期間\n2026年1月20日（火）～2月8日（日）\n1月20日、21日はプレオープン\n\n\n場所\n福崎町立図書館\n\n\n\n\n視点が変われば、善悪も変わる？紫霞さんが贈る「多面的な」妖怪の世界／福崎町
URL:https://iimono.town/event/%e7%89%b9%e5%88%a5%e5%b1%95%e7%a4%ba-%e5%a6%96%e6%80%aa%e9%80%a0%e5%bd%a2%e5%93%81%e2%94%82%e7%a6%8f%e5%b4%8e%e7%94%ba/
LOCATION:福崎町立図書館\, 福崎町西治３６０−１\, 神崎郡\, 兵庫県\, 679-2215\, 日本
CATEGORIES:福崎町
ATTACH;FMTTYPE=image/jpeg:https://iimono.town/wp-content/uploads/2026/01/IMG_5293.jpg
END:VEVENT
BEGIN:VEVENT
DTSTART;TZID=Asia/Tokyo:20260125T083000
DTEND;TZID=Asia/Tokyo:20260125T120000
DTSTAMP:20260422T013022
CREATED:20260121T043933Z
LAST-MODIFIED:20260121T043933Z
UID:170747-1769329800-1769342400@iimono.town
SUMMARY:第49回 神河マラソン大会│神河町
DESCRIPTION:神河マラソン大会が1月25日（日）に開催されます。大会には、全国高校駅伝などで活躍されている西脇工業高校と須磨学園高校の駅伝選手の皆様も参加されます。 \n\n\n\n開催日時\n2026年1月25日（日）　※荒天の場合は中止します\n受付　8:20\n開会　9:00\nスタート　9:40\n閉会　12:00頃\n\n\n会場・コース\n神河町役場本庁舎前\n・受付　中央公民館グリンデルホール前（神河町役場本庁舎に隣接）\n・コース　寺前から高朝田（折り返しコース）\n\n\n\n雪の影響で中止\n  \n 
URL:https://iimono.town/event/%e7%ac%ac49%e5%9b%9e-%e7%a5%9e%e6%b2%b3%e3%83%9e%e3%83%a9%e3%82%bd%e3%83%b3%e5%a4%a7%e4%bc%9a%e2%94%82%e7%a5%9e%e6%b2%b3%e7%94%ba/
LOCATION:神河町役場\, 679-3116 兵庫県神崎郡神河町寺前６４番地
CATEGORIES:神河町
ATTACH;FMTTYPE=image/jpeg:https://iimono.town/wp-content/uploads/2025/01/c0db174b0c59b83b43aba528779aa814.jpg
END:VEVENT
BEGIN:VEVENT
DTSTART;TZID=Asia/Tokyo:20260125T100000
DTEND;TZID=Asia/Tokyo:20260125T150000
DTSTAMP:20260422T013022
CREATED:20260108T043302Z
LAST-MODIFIED:20260108T043302Z
UID:170442-1769335200-1769353200@iimono.town
SUMMARY:第3回 市川町商工会青年部主催 大寒祭│市川町
DESCRIPTION:1月25日に、市川町文化センターにて「大寒祭」が開催されます。 \n\n\n\n開催日時\n2026年1月25日（日）10:00～15:00\n\n\n場所\n市川町文化センター芝生広場
URL:https://iimono.town/event/%e7%ac%ac3%e5%9b%9e-%e5%b8%82%e5%b7%9d%e7%94%ba%e5%95%86%e5%b7%a5%e4%bc%9a%e9%9d%92%e5%b9%b4%e9%83%a8%e4%b8%bb%e5%82%ac-%e5%a4%a7%e5%af%92%e7%a5%ad%e2%94%82%e5%b8%82%e5%b7%9d%e7%94%ba/
LOCATION:市川町文化センター\, 西川辺７１５\, 神崎郡市川町\, 兵庫県\, 〒679-2315\, 日本
CATEGORIES:市川町
ATTACH;FMTTYPE=image/jpeg:https://iimono.town/wp-content/uploads/2026/01/CCI20260108.jpg
END:VEVENT
BEGIN:VEVENT
DTSTART;TZID=Asia/Tokyo:20260204T100000
DTEND;TZID=Asia/Tokyo:20260204T140000
DTSTAMP:20260422T013022
CREATED:20251225T010706Z
LAST-MODIFIED:20251225T010706Z
UID:170047-1770199200-1770213600@iimono.town
SUMMARY:姫路いちごフェア│姫路市
DESCRIPTION:2月4日ににぎわい交流広場にて「姫路いちごフェア」が開催されます。 \n\n\n\n開催日時\n2026年2月4日（水）10:00～14:00\n\n\n場所\n姫路駅北にぎわい交流広場 中央地下通路\n\n\n\nイベント内容\n・いちごの直売と加工品の販売 (売り切れ次第終了)\n・(姫路いちご振興協議会・西播磨地域の生産者)生産者と商工業者によるマッチング商談会の開催 (当日参加可能)\n・いちごの無料試食〈11:00～ / 先着200名様〉※アンケートにご協力ください。
URL:https://iimono.town/event/%e5%a7%ab%e8%b7%af%e3%81%84%e3%81%a1%e3%81%94%e3%83%95%e3%82%a7%e3%82%a2%e2%94%82%e5%a7%ab%e8%b7%af%e5%b8%82/
LOCATION:姫路駅北にぎわい交流広場
CATEGORIES:姫路市
ATTACH;FMTTYPE=image/jpeg:https://iimono.town/wp-content/uploads/2025/12/00880e92e39f015c3bbb970e93872f90-20.jpg
END:VEVENT
BEGIN:VEVENT
DTSTART;TZID=Asia/Tokyo:20260204T100000
DTEND;TZID=Asia/Tokyo:20260207T120000
DTSTAMP:20260422T013022
CREATED:20251216T023608Z
LAST-MODIFIED:20251216T023608Z
UID:169569-1770199200-1770465600@iimono.town
SUMMARY:第8回 カレンダー市│加西市
DESCRIPTION:令和8年2月4日～7日の期間、アスティアかさいにて「第8回 カレンダー市」が開催されます。 \n\n\n\n開催日時\n令和8年2月4日（水）10:00～2月7日（土）12:00まで\n※なくなり次第終了\n\n\n場所\n地域交流センター（アスティアかさい3階）　交流プラザ\n\n\n\nカレンダーの持ち込みについて\n・期限：令和8年1月31日（土）まで\n・場所：アスティアかさい3階　地域交流センター\n・対象：2026年度カレンダー\n・その他：持ち込みは、おひとり様50本まで
URL:https://iimono.town/event/%e7%ac%ac8%e5%9b%9e-%e3%82%ab%e3%83%ac%e3%83%b3%e3%83%80%e3%83%bc%e5%b8%82%e2%94%82%e5%8a%a0%e8%a5%bf%e5%b8%82/
LOCATION:アスティアかさい\, 675-2312 兵庫県加西市北条町北条２８−１
CATEGORIES:加西市
ATTACH;FMTTYPE=image/jpeg:https://iimono.town/wp-content/uploads/2025/12/50663_152806_img.jpg
END:VEVENT
BEGIN:VEVENT
DTSTART;TZID=Asia/Tokyo:20260207T110000
DTEND;TZID=Asia/Tokyo:20260208T170000
DTSTAMP:20260422T013022
CREATED:20260128T011653Z
LAST-MODIFIED:20260128T011653Z
UID:170940-1770462000-1770570000@iimono.town
SUMMARY:FukuFes.│福崎町
DESCRIPTION:2月7日・8日の２日間に、福崎駅前広場にて「FukuFes.」が開催されます。 \n\n\n\n開催日時\n2026年2月7日（土）、8日（日）11:00〜17:00\n\n\n場所\n福崎駅前広場
URL:https://iimono.town/event/fukufes-%e2%94%82%e7%a6%8f%e5%b4%8e%e7%94%ba/
LOCATION:福崎駅前交流広場
CATEGORIES:福崎町
ATTACH;FMTTYPE=image/jpeg:https://iimono.town/wp-content/uploads/2026/01/FukuFes.jpg
END:VEVENT
BEGIN:VEVENT
DTSTART;TZID=Asia/Tokyo:20260208T090000
DTEND;TZID=Asia/Tokyo:20260208T090000
DTSTAMP:20260422T013022
CREATED:20251205T081727Z
LAST-MODIFIED:20251205T081727Z
UID:168951-1770541200-1770541200@iimono.town
SUMMARY:市川町制施行70周年記念　第47回兵庫市川マラソン全国大会
DESCRIPTION:2026年2月8日に、第47回兵庫市川全国大会が開催されます。 \n\n\n\n開催日時\n2026年2月8日（日）※雨天決行\n開会式：午前8時20分\nスタート：午前9時10分\n\n\n場所\n市川町スポーツセンター\n\n\n\n\n【追加募集決定】70周年記念大会！走って、食べて、豪華景品を当てよう！第47回兵庫市川マラソン全国大会／市川町
URL:https://iimono.town/event/%e5%b8%82%e5%b7%9d%e7%94%ba%e5%88%b6%e6%96%bd%e8%a1%8c70%e5%91%a8%e5%b9%b4%e8%a8%98%e5%bf%b5%e3%80%80%e7%ac%ac47%e5%9b%9e%e5%85%b5%e5%ba%ab%e5%b8%82%e5%b7%9d%e3%83%9e%e3%83%a9%e3%82%bd%e3%83%b3/
LOCATION:市川町スポーツセンター
CATEGORIES:市川町
ATTACH;FMTTYPE=image/jpeg:https://iimono.town/wp-content/uploads/2025/02/00880e92e39f015c3bbb970e93872f90-6.jpg
END:VEVENT
BEGIN:VEVENT
DTSTART;TZID=Asia/Tokyo:20260208T093000
DTEND;TZID=Asia/Tokyo:20260208T120000
DTSTAMP:20260422T013022
CREATED:20251225T032323Z
LAST-MODIFIED:20251225T032323Z
UID:170069-1770543000-1770552000@iimono.town
SUMMARY:「備えあれば憂いなし」防災公開講座（全3回）阪神・淡路大震災から30年
DESCRIPTION:神戸医療未来大学では、阪神・淡路大震災から30年という節目に合わせ、日常生活の中で楽しく実践できる防災の知恵を学ぶ「公開講座：備えあれば憂いなし」を開催いたします。 \n「何から備えればいいかわからない」「家族で防災について考えたい」という方にぴったりの、体験型ワークショップを中心とした講座です。各専門分野の教員が、今日から役立つノウハウを分かりやすくお伝えします。 \n \n講座ラインナップ（全3回）\n※1回のみの単発参加も大歓迎です！ \n\n\n\n会場\n神戸医療未来大学\n神戸三宮サテライトキャンパス（日本経済大学内）MAP\n\n\n参加費\n500円／回（小学生以下無料）\n\n\n定員\n20名／回\n\n\n\n第1回：新聞紙が防災グッズに変身！今日から役立つ知恵を学ぼう\n\n日時： 2026年2月8日（日）\n講師： 正井 佐知 氏（人間科学博士）\n内容： 災害時の水不足や寒さ対策に。新聞紙を使った食器作りや紙スリッパ作りを体験します。役立つお土産付き\n\n第2回：家族みんなで備える！“食べる防災”実践ワークショップ\n\n日時： 2026年2月14日（土）\n講師： 井上 なぎさ 氏（管理栄養士／公認スポーツ栄養士）\n内容： 非常食の試食・アレンジ体験。子どもからシニアまで、各世代に必要な栄養確保のポイントを楽しく学びます。\n\n第3回：ちょこっと足裏エクササイズを体験してみませんか？\n\n日時： 2026年2月22日（日）\n講師： 辻 慎太郎 氏（健康科学博士）\n内容： 避難所生活等でのエコノミークラス症候群の予防に。自宅のスキマ時間で手軽にできる足裏刺激で、健康を守る方法を伝授します。\n\nお申し込み方法\n事前申込制です。以下の事項を添えて、QRコード・電話・FAX・メールのいずれかでお申し込みください。 \n\n氏名\n住所\n年齢\n電話番号\n希望講座\n申込締切： 2026年1月10日（土）\n\nお問合せ先： 神戸医療未来大学（姫路キャンパス）\n\nTEL：0790-22-2620\nFAX：0790-23-0662\nMail：（担当：小田）\n\n \n 
URL:https://iimono.town/event/%e3%80%8c%e5%82%99%e3%81%88%e3%81%82%e3%82%8c%e3%81%b0%e6%86%82%e3%81%84%e3%81%aa%e3%81%97%e3%80%8d%e9%98%b2%e7%81%bd%e5%85%ac%e9%96%8b%e8%ac%9b%e5%ba%a7%ef%bc%88%e5%85%a83%e5%9b%9e%ef%bc%89%e9%98%aa/
LOCATION:神戸医療未来大学 神戸三宮サテライトキャンパス
CATEGORIES:兵庫県
ATTACH;FMTTYPE=image/jpeg:https://iimono.town/wp-content/uploads/2025/12/S__22306842.jpg
END:VEVENT
BEGIN:VEVENT
DTSTART;TZID=Asia/Tokyo:20260211T090000
DTEND;TZID=Asia/Tokyo:20260211T170000
DTSTAMP:20260422T013022
CREATED:20260126T005519Z
LAST-MODIFIED:20260126T005519Z
UID:170864-1770800400-1770829200@iimono.town
SUMMARY:ゑびす祭│福崎町
DESCRIPTION:2月11日に、惠美須神社にて「ゑびす祭」が開催されます。\n今年も『子福ちゃん決定戦』開催！ぜひご参加ください。 \n\n\n\n開催日\n2026年2月11日（水祝）\n\n\n場所\n井ノ口惠美須神社
URL:https://iimono.town/event/%e3%82%91%e3%81%b3%e3%81%99%e7%a5%ad%e2%94%82%e7%a6%8f%e5%b4%8e%e7%94%ba/
LOCATION:井ノ口恵美須神社
CATEGORIES:福崎町
ATTACH;FMTTYPE=image/jpeg:https://iimono.town/wp-content/uploads/2023/02/S__191496221.jpg
END:VEVENT
BEGIN:VEVENT
DTSTART;TZID=Asia/Tokyo:20260212T110000
DTEND;TZID=Asia/Tokyo:20260214T160000
DTSTAMP:20260422T013022
CREATED:20260206T023437Z
LAST-MODIFIED:20260206T023437Z
UID:171169-1770894000-1771084800@iimono.town
SUMMARY:甘地駅前PARK│市川町
DESCRIPTION:2月12日～14日の3日間、甘地駅前PARKにてスイーツイベントが開催されます。 \n\n\n\n開催日時\n2026年2月12日(木)・13日(金)・14日(土)\n11:00〜16:00\n\n\n場所\n甘地駅前PARK\n\n\n\n内容\n１，スイーツがメイン\n２，各店舗、軽食メニューもご用意\n３， グルメもスイーツも、500円以下の特別価格\n４、 この期間だけの限定メニューも登場
URL:https://iimono.town/event/%e7%94%98%e5%9c%b0%e9%a7%85%e5%89%8dpark%e2%94%82%e5%b8%82%e5%b7%9d%e7%94%ba/
LOCATION:甘地駅前公園
CATEGORIES:市川町
ATTACH;FMTTYPE=image/jpeg:https://iimono.town/wp-content/uploads/2026/01/ICHIfes.jpg
END:VEVENT
BEGIN:VEVENT
DTSTART;TZID=Asia/Tokyo:20260221T083000
DTEND;TZID=Asia/Tokyo:20260221T140000
DTSTAMP:20260422T013022
CREATED:20260220T021820Z
LAST-MODIFIED:20260220T021820Z
UID:171696-1771662600-1771682400@iimono.town
SUMMARY:いちかわ地産地消マルシェ│市川町
DESCRIPTION:2月21日に、市川サービスエリアにて「いちかわ地産地消マルシェ」が開催されます。 \n\n\n\n開催日時\n2026年2月21日（土）8:30～14:00\n（レストランは9:30～）\n\n\n場所\n市川サービスエリア
URL:https://iimono.town/event/%e3%81%84%e3%81%a1%e3%81%8b%e3%82%8f%e5%9c%b0%e7%94%a3%e5%9c%b0%e6%b6%88%e3%83%9e%e3%83%ab%e3%82%b7%e3%82%a7%e2%94%82%e5%b8%82%e5%b7%9d%e7%94%ba/
LOCATION:市川サービスエリア
CATEGORIES:市川町
ATTACH;FMTTYPE=image/jpeg:https://iimono.town/wp-content/uploads/2026/02/1000013406.jpg
END:VEVENT
BEGIN:VEVENT
DTSTART;TZID=Asia/Tokyo:20260221T090000
DTEND;TZID=Asia/Tokyo:20260221T163000
DTSTAMP:20260422T013022
CREATED:20260212T021703Z
LAST-MODIFIED:20260212T021703Z
UID:171383-1771664400-1771691400@iimono.town
SUMMARY:聖徳太子例祭（おたいっさん）│香寺町
DESCRIPTION:2月21日に、太子堂にて「聖徳太子例祭（おたいっさん）」が開催されます。 \n\n\n\n開催日時\n2026年2月21日（土）9:00～16:30\n\n\n場所\n太子堂\n\n\n\nいつ開催？「おたいっさん」でおなじみ！姫路市香寺町の「聖徳太子例祭」
URL:https://iimono.town/event/%e8%81%96%e5%be%b3%e5%a4%aa%e5%ad%90%e4%be%8b%e7%a5%ad%ef%bc%88%e3%81%8a%e3%81%9f%e3%81%84%e3%81%a3%e3%81%95%e3%82%93%ef%bc%89%e2%94%82%e9%a6%99%e5%af%ba%e7%94%ba/
LOCATION:太子堂\, 姫路市香寺町溝口\, 兵庫県\, 679-2161\, 日本
CATEGORIES:姫路市
ATTACH;FMTTYPE=image/jpeg:https://iimono.town/wp-content/uploads/2020/02/10523_0.jpg
END:VEVENT
BEGIN:VEVENT
DTSTART;TZID=Asia/Tokyo:20260221T100000
DTEND;TZID=Asia/Tokyo:20260222T150000
DTSTAMP:20260422T013022
CREATED:20260212T022952Z
LAST-MODIFIED:20260212T022952Z
UID:171385-1771668000-1771772400@iimono.town
SUMMARY:波賀味噌祭り│宍粟市
DESCRIPTION:2月21日・22日に、道の駅みなみ波賀にて「波賀味噌祭り」が開催されます。\n味噌の直売や味噌づくり体験も！ \n\n\n\n開催日時\n2026年2月21日（土）～2月22日（日）10:00～15:00\n\n\n場所\n道の駅みなみ波賀
URL:https://iimono.town/event/%e6%b3%a2%e8%b3%80%e5%91%b3%e5%99%8c%e7%a5%ad%e3%82%8a%e2%94%82%e5%ae%8d%e7%b2%9f%e5%b8%82/
LOCATION:道の駅みなみ波賀\, 〒671-4241 兵庫県宍粟市波賀町安賀８−１
CATEGORIES:宍粟市
ATTACH;FMTTYPE=image/jpeg:https://iimono.town/wp-content/uploads/2026/02/a56b6289f716c9974ff21c52da29d52a.jpg
END:VEVENT
END:VCALENDAR