BEGIN:VCALENDAR
VERSION:2.0
PRODID:-//いいものタウン - ECPv6.3.7//NONSGML v1.0//EN
CALSCALE:GREGORIAN
METHOD:PUBLISH
X-WR-CALNAME:いいものタウン
X-ORIGINAL-URL:https://iimono.town
X-WR-CALDESC:いいものタウン のイベント
REFRESH-INTERVAL;VALUE=DURATION:PT1H
X-Robots-Tag:noindex
X-PUBLISHED-TTL:PT1H
BEGIN:VTIMEZONE
TZID:Asia/Tokyo
BEGIN:STANDARD
TZOFFSETFROM:+0900
TZOFFSETTO:+0900
TZNAME:JST
DTSTART:20260101T000000
END:STANDARD
END:VTIMEZONE
BEGIN:VEVENT
DTSTART;TZID=Asia/Tokyo:20260422T220000
DTEND;TZID=Asia/Tokyo:20260423T050000
DTSTAMP:20260422T092246
CREATED:20260404T080011Z
LAST-MODIFIED:20260404T080011Z
UID:173887-1776895200-1776920400@iimono.town
SUMMARY:4月こと座流星群が極大（2026年4月）
DESCRIPTION:2026年4月こと座流星群が極大に！春の夜空に願いを込めて \n春の足音が聞こえる4月。夜の空気も少しずつ和らぎ、星空観察にぴったりの季節がやってきます。\n2026年4月22日の深夜から23日の明け方にかけて、「4こと座流星群」が見ごろを迎えます。 \n \n「最近ゆっくり空を眺めていないな」という方も、この機会に悠久の歴史を持つ流れ星を探してみませんか？ \n2600年以上前から続く、歴史ある流星群\n「こと座流星群（4月）」は、実はとっても歴史が長い流星群なんです。 \n最も古い記録はなんと紀元前687年。中国の歴史書に記されたのが始まりと言われており、2600年以上も前から人々はこの光を見上げてきました。 \n普段は控えめな流星群ですが、過去には突発的に数多くの流星が流れたこともあります。そんな「もしかしたら」というワクワク感があるのも、この流星群の魅力のひとつです。 \n2026年のベストタイミングは「4月23日の未明」\n2026年の観察条件は、結論から言うと「月が沈んだ後の数時間がチャンス」です！ \n\n極大時刻（活動のピーク）： 2026年4月23日 5時頃\nおすすめの観察時間： 4月23日 0時頃 〜 3時頃\n\nスケジュール詳細\n\n22日 22:00頃： 流れ星が出現し始めますが、まだ月明かりがあり、数も少なめです。\n23日 00:00頃： 西の空に月が沈みます！ ここからが本番。空が暗くなり、放射点（流星が飛び出す中心点）が高くなるため、条件が良くなります。\n23日 03:00頃： 一番の狙い目！ 空の暗い場所なら、1時間に10個〜15個程度の流星が期待できます。\n23日 早朝： 5時のピーク時には残念ながら空が明るくなり始めてしまうため、その直前の暗い時間がラストチャンスです。\n\n上手に観察するための3つのポイント\n©国立天文台 \n特別な道具は必要ありません。以下のポイントを意識して、のんびり眺めてみましょう。 \n① 空の広い範囲をぼーっと眺める\n流れ星は「こと座」の方向だけに出るわけではありません。放射点を中心に空全体へ飛び出すので、一箇所をじっと見るより、レジャーシートを敷いて寝転び、空全体を広く見渡すのがコツです。 \n② 目を暗さに慣らす（15分以上）\nスマホの画面など明るいものを見ると、目がリセットされてしまいます。外に出てから最低でも15分は、暗闇に目を慣らしましょう。 \n③ 安全とマナーを大切に\n夜間は冷え込むこともあるので、上着を用意して。近隣の方の迷惑にならないよう静かに、安全な場所で楽しみましょう。 \n春の夜の、特別なひとときを\n2026年4月の「4月こと座流星群」。\n月が沈んだ後の静かな夜空に、スッと光る流星を見つけたら、なんだか良いことがありそうな気がしませんか？ \nぜひ、温かい飲み物を用意して、歴史ある星の光を探してみてくださいね。 \n（注釈） \n\n極大： 流星群の活動が最も活発になること。\n放射点： 流星が飛び出してくるように見える中心の点。\n\n街明かりのある場所では見える数が少なくなりますが、熟練者なら予想以上の数を見つけられることもあります。 \nhttps://www.nao.ac.jp/astro/sky/2026/04-topics03.html
URL:https://iimono.town/event/lyrids-2026/
LOCATION:日本
CATEGORIES:全国
ATTACH;FMTTYPE=image/jpeg:https://iimono.town/wp-content/uploads/2018/12/topics02-m.jpg
END:VEVENT
BEGIN:VEVENT
DTSTART;TZID=Asia/Tokyo:20260419T100000
DTEND;TZID=Asia/Tokyo:20260419T160000
DTSTAMP:20260422T092246
CREATED:20260323T010206Z
LAST-MODIFIED:20260323T010206Z
UID:173118-1776592800-1776614400@iimono.town
SUMMARY:春の大茶の湯│姫路市
DESCRIPTION:4月19日に、好古園にて「春の大茶の湯」が開催されます。 \n\n\n\n開催日時\n2026年4月19日（日）10:00～16:00\n\n\n場所\n姫路城西御屋敷跡庭園 好古園内 茶室 双樹庵\n\n\n懸釜\n表千家同門会\n\n\n茶席料\n一席：700円 (お菓子付)\n\n\n入園料\n大人 (18歳以上)：400円 / 小人：無料\n※茶席料が別途必要となります。\n\n\n定員\n各回20名程度 (全10回)　※満席になり次第受付終了\n\n\nタイムテーブル\n①10:00～、②10:35～、③11:10～、④11:45～、⑤12:20～、⑥13:00～、⑦13:35～、⑧14:10～、⑨14:45～、⑩15:20～
URL:https://iimono.town/event/%e6%98%a5%e3%81%ae%e5%a4%a7%e8%8c%b6%e3%81%ae%e6%b9%af%e2%94%82%e5%a7%ab%e8%b7%af%e5%b8%82/
LOCATION:好古園\, 670-0012 兵庫県姫路市本町68
CATEGORIES:姫路市
ATTACH;FMTTYPE=image/jpeg:https://iimono.town/wp-content/uploads/2026/03/00880e92e39f015c3bbb970e93872f90-27.jpg
END:VEVENT
BEGIN:VEVENT
DTSTART;TZID=Asia/Tokyo:20260418T100000
DTEND;TZID=Asia/Tokyo:20260419T160000
DTSTAMP:20260422T092246
CREATED:20260417T085520Z
LAST-MODIFIED:20260417T085520Z
UID:174546-1776506400-1776614400@iimono.town
SUMMARY:COROHIMERIVER（カロひめリバー）オープニングイベント│神河町
DESCRIPTION:4月18日、19日に、COROHIMERIVER（カロひめリバー）にてオープニングイベントが開催されます。\nダンスと音楽のステージやアウトドア体験コーナー、キッチンカー・お花見ブース・ミニゲームコーナーなど様々なイベントが勢揃いです！ \n\n\n\n開催日時\n2026年4月18日（土）・19日（日）10:00～16:00\n\n\n場所\nCOROHIMERIVER（カロひめリバー）
URL:https://iimono.town/event/corohimeriver%ef%bc%88%e3%82%ab%e3%83%ad%e3%81%b2%e3%82%81%e3%83%aa%e3%83%90%e3%83%bc%ef%bc%89%e3%82%aa%e3%83%bc%e3%83%97%e3%83%8b%e3%83%b3%e3%82%b0%e3%82%a4%e3%83%99%e3%83%b3%e3%83%88%e2%94%82/
LOCATION:COROHIMERIVER（カロひめリバー）\, 兵庫県神崎郡神河町長谷字新田23-2
CATEGORIES:神河町
ATTACH;FMTTYPE=image/jpeg:https://iimono.town/wp-content/uploads/2026/04/3.jpg
END:VEVENT
BEGIN:VEVENT
DTSTART;TZID=Asia/Tokyo:20260418T100000
DTEND;TZID=Asia/Tokyo:20260418T160000
DTSTAMP:20260422T092246
CREATED:20260417T012554Z
LAST-MODIFIED:20260417T012554Z
UID:174528-1776506400-1776528000@iimono.town
SUMMARY:第33回 千姫ぼたん祭り│姫路市
DESCRIPTION:4月18日に千姫ぼたん園にて「第33回 千姫ぼたん祭り」が開催されます。 \n\n\n\n開催日時\n2026年4月18日（土）10:00～16:00\n※小雨決行、荒天時は翌19日に順延\n\n\n場所\n姫路城三の丸西高台 千姫ぼたん園\n\n\n\n 
URL:https://iimono.town/event/%e7%ac%ac33%e5%9b%9e-%e5%8d%83%e5%a7%ab%e3%81%bc%e3%81%9f%e3%82%93%e7%a5%ad%e3%82%8a%e2%94%82%e5%a7%ab%e8%b7%af%e5%b8%82/
LOCATION:千姫ぼたん園
CATEGORIES:姫路市
ATTACH;FMTTYPE=image/jpeg:https://iimono.town/wp-content/uploads/2026/04/00880e92e39f015c3bbb970e93872f90-20.jpg
END:VEVENT
BEGIN:VEVENT
DTSTART;TZID=Asia/Tokyo:20260415T100000
DTEND;TZID=Asia/Tokyo:20260420T190000
DTSTAMP:20260422T092246
CREATED:20260413T012200Z
LAST-MODIFIED:20260413T012200Z
UID:174328-1776247200-1776711600@iimono.town
SUMMARY:～エリザベス女王誕生１００周年記念～ 英国展│姫路市
DESCRIPTION:４月15日～20日の期間、山陽百貨店にて「英国展」が初開催されます。\nエリザベス女王にちなんだ記念の金貨にはじまり記念のグッズや、テディベアやバッグ、紅茶、スコーンと定番の食が多数並びます。 \n\n\n\n開催期間\n2026年4月15日（水）～20日（月）\n10:00～19:00　※最終日は16時閉場\n\n\n場所\n山陽百貨店  本館６階 催し会場
URL:https://iimono.town/event/%ef%bd%9e%e3%82%a8%e3%83%aa%e3%82%b6%e3%83%99%e3%82%b9%e5%a5%b3%e7%8e%8b%e8%aa%95%e7%94%9f%ef%bc%91%ef%bc%90%ef%bc%90%e5%91%a8%e5%b9%b4%e8%a8%98%e5%bf%b5%ef%bd%9e-%e8%8b%b1%e5%9b%bd%e5%b1%95%e2%94%82/
LOCATION:山陽百貨店\, 670-0912 兵庫県姫路市南町１
CATEGORIES:姫路市
ATTACH;FMTTYPE=image/jpeg:https://iimono.town/wp-content/uploads/2025/04/IMG_5720.jpg
END:VEVENT
BEGIN:VEVENT
DTSTART;TZID=Asia/Tokyo:20260412T110000
DTEND;TZID=Asia/Tokyo:20260412T160000
DTSTAMP:20260422T092246
CREATED:20260403T012225Z
LAST-MODIFIED:20260403T012225Z
UID:173781-1775991600-1776009600@iimono.town
SUMMARY:八千種フェスティバル2026×FukuFes.│福崎町
DESCRIPTION:4月12日に、八千種小学校前広場にて「八千種フェスティバル2026×FukuFes.」が開催されます。 \n\n\n\n開催日時\n2026年4月12日（日）11:00～16:00\n\n\n場所\n八千種小学校前広場
URL:https://iimono.town/event/%e5%85%ab%e5%8d%83%e7%a8%ae%e3%83%95%e3%82%a7%e3%82%b9%e3%83%86%e3%82%a3%e3%83%90%e3%83%ab2026xfukufes-%e2%94%82%e7%a6%8f%e5%b4%8e%e7%94%ba/
LOCATION:八千種小学校\, 679-2202 兵庫県神崎郡福崎町八千種300
CATEGORIES:福崎町
ATTACH;FMTTYPE=image/jpeg:https://iimono.town/wp-content/uploads/2026/01/FukuFes.jpg
END:VEVENT
BEGIN:VEVENT
DTSTART;TZID=Asia/Tokyo:20260412T110000
DTEND;TZID=Asia/Tokyo:20260412T150000
DTSTAMP:20260422T092246
CREATED:20260408T063838Z
LAST-MODIFIED:20260408T063838Z
UID:174110-1775991600-1776006000@iimono.town
SUMMARY:第5回　但馬うみゃ～もん祭り2026│朝来市
DESCRIPTION:4月12日に、生野銀山駐車場内にて「但馬うみゃ～もん祭り2026」が開催されます。\n生野へいくろう祭も同時開催！ \n\n\n\n開催日時\n2026年4月12日(日)　11:00～15:00\n\n\n場所\n生野銀山駐車場内\n\n\n\nメニュー\n・辛さ控えめ出汁チキンカレー　800円（お出汁とスパイス 元祖エレクトロニカレー）\n・汁なし（まぜそば）　800円（ラーメン荘 歴史を刻め）\n・ママカリ煮干しとアラ出汁のらあめん　800円（岡山コラボ　麵処おぐら×らあめん鬼ぼし）\n・昔ながらの中華そば　800円（いっせーのーで）\n・マンモス特製からあげ　800円／マンモス特製レッドからあげ　800円（メガ盛りマンモス弁当）\n・味噌二犀　800円（極麺 青二犀）\n・チュロス　400円（S cafe）
URL:https://iimono.town/event/%e4%bd%86%e9%a6%ac%e3%81%86%e3%81%bf%e3%82%83%ef%bd%9e%e3%82%82%e3%82%93%e7%a5%ad%e3%82%8a2026%e2%94%82%e6%9c%9d%e6%9d%a5%e5%b8%82/
LOCATION:生野銀山\, 679-3324 兵庫県朝来市生野町小野３３−５
CATEGORIES:朝来市
ATTACH;FMTTYPE=image/jpeg:https://iimono.town/wp-content/uploads/2026/04/4760d0521a46e19ad8f97d08fd7d5370.jpg
END:VEVENT
BEGIN:VEVENT
DTSTART;TZID=Asia/Tokyo:20260412T110000
DTEND;TZID=Asia/Tokyo:20260412T150000
DTSTAMP:20260422T092246
CREATED:20260325T075720Z
LAST-MODIFIED:20260325T075720Z
UID:173362-1775991600-1776006000@iimono.town
SUMMARY:第23回 生野銀山へいくろう祭│朝来市
DESCRIPTION:4月12日に、生野銀山にて「第23回 生野銀山へいくろう祭」が開催されます。\n当日は、「世界の果てまでイッテQ！」で紹介された全日本トロッコ・力自慢選手権大会」も開催\n。また、今年も「但馬うみゃ～もん祭り」が同時開催され、大阪のラーメン店など、うまいもんが大集結します。 \n\n\n\n開催日時\n2026年4月12日（日）11:00～15:00\n\n\n場所\n生野銀山
URL:https://iimono.town/event/%e7%ac%ac23%e5%9b%9e-%e7%94%9f%e9%87%8e%e9%8a%80%e5%b1%b1%e3%81%b8%e3%81%84%e3%81%8f%e3%82%8d%e3%81%86%e7%a5%ad%e2%94%82%e6%9c%9d%e6%9d%a5%e5%b8%82/
LOCATION:生野銀山\, 679-3324 兵庫県朝来市生野町小野３３−５
CATEGORIES:朝来市
ATTACH;FMTTYPE=image/jpeg:https://iimono.town/wp-content/uploads/2026/03/5992.jpg
END:VEVENT
BEGIN:VEVENT
DTSTART;TZID=Asia/Tokyo:20260412T100000
DTEND;TZID=Asia/Tokyo:20260412T150000
DTSTAMP:20260422T092246
CREATED:20260317T024846Z
LAST-MODIFIED:20260317T024846Z
UID:172698-1775988000-1776006000@iimono.town
SUMMARY:第2回 だいもんフェス│福崎町
DESCRIPTION:4月12日に、岩尾神社にて「第2回 だいもんフェス」が開催されます。\nフードブースや暮らし体験など、いろいろなお店が出店されます。 \n\n\n\n開催日時\n2026年4月12日（日） 10:00〜15:00\n\n\n場所\n岩尾神社\n\n\n\n 
URL:https://iimono.town/event/%e7%ac%ac2%e5%9b%9e-%e3%81%a0%e3%81%84%e3%82%82%e3%82%93%e3%83%95%e3%82%a7%e3%82%b9%e2%94%82%e7%a6%8f%e5%b4%8e%e7%94%ba/
LOCATION:岩尾神社\, 兵庫県神崎郡福崎町東田原1935-1
CATEGORIES:福崎町
ATTACH;FMTTYPE=image/jpeg:https://iimono.town/wp-content/uploads/2026/03/00880e92e39f015c3bbb970e93872f90-20.jpg
END:VEVENT
BEGIN:VEVENT
DTSTART;TZID=Asia/Tokyo:20260411T100000
DTEND;TZID=Asia/Tokyo:20260412T180000
DTSTAMP:20260422T092246
CREATED:20260302T023614Z
LAST-MODIFIED:20260302T023614Z
UID:171994-1775901600-1776016800@iimono.town
SUMMARY:姫CON2026│姫路市
DESCRIPTION:地域・施設の活性化を目的としたコスプレイベント「姫CON2026」が2026年4月11日(土) 、12日(日)の2日間にわたり開催されます。 \n\n\n\n開催日時\n2026年4月11日(土)・12日(日) 10:00～18:00\n\n\n場所\nアクリエひめじ（メイン会場・受付）\n姫路駅北にぎわい交流広場・大手前公園（サブ会場）
URL:https://iimono.town/event/%e5%a7%abcon2026%e2%94%82%e5%a7%ab%e8%b7%af%e5%b8%82/
LOCATION:アクリエひめじ\, 670-0836　兵庫県姫路市神屋町143-2
CATEGORIES:姫路市
ATTACH;FMTTYPE=image/jpeg:https://iimono.town/wp-content/uploads/2026/03/main.jpg
END:VEVENT
BEGIN:VEVENT
DTSTART;TZID=Asia/Tokyo:20260411T100000
DTEND;TZID=Asia/Tokyo:20260412T150000
DTSTAMP:20260422T092246
CREATED:20260407T083938Z
LAST-MODIFIED:20260407T083938Z
UID:174042-1775901600-1776006000@iimono.town
SUMMARY:葉わさびまつり│宍粟市
DESCRIPTION:4月11日～4月12日に、道の駅みなみ波賀にて「葉わさびまつり」が開催されます。\n葉わさびや葉わさび寿司などの販売が行われます。 \n\n\n\n開催日時\n2026年4月11日（土）～4月12日（日）10:00～15:00\n\n\n場所\n道の駅みなみ波賀
URL:https://iimono.town/event/%e8%91%89%e3%82%8f%e3%81%95%e3%81%b3%e3%81%be%e3%81%a4%e3%82%8a%e2%94%82%e5%ae%8d%e7%b2%9f%e5%b8%82/
LOCATION:道の駅みなみ波賀\, 〒671-4241 兵庫県宍粟市波賀町安賀８−１
CATEGORIES:宍粟市
ATTACH;FMTTYPE=image/jpeg:https://iimono.town/wp-content/uploads/2023/05/230422-172813.jpg
END:VEVENT
BEGIN:VEVENT
DTSTART;TZID=Asia/Tokyo:20260411T100000
DTEND;TZID=Asia/Tokyo:20260411T150000
DTSTAMP:20260422T092246
CREATED:20260317T013942Z
LAST-MODIFIED:20260317T013942Z
UID:172694-1775901600-1775919600@iimono.town
SUMMARY:神子畑桜まつり2026│朝来市
DESCRIPTION:4月11日に、神子畑選鉱場前広場にて「神子畑桜まつり2026」が開催されます。 \n\n\n\n開催日時\n2026年4月11日（土） 10:00～15:00\n\n\n場所\n神子畑選鉱場前広場\n\n\n\nイベント内容\n■選鉱場上部　特別公開（小雨決行）\n始発便　10：00～最終便　14：00\n(12時～13時は運行しません） \n受付場所：神子畑選鉱場跡シックナー前\n料金：無料 \n＊人数制限公開(当日受付)\n＊乗車時に、来場者の芳名とヘルメット着用をお願いします。\n＊荒天の場合は特別公開が中止になる場合もあります。 \n普段は見れない上からのシックナーを特別公開！ \n■動くミニ一円電車の運行\n＊雨天の場合は中止になります。 \n■出店コーナー
URL:https://iimono.town/event/%e7%a5%9e%e5%ad%90%e7%95%91%e6%a1%9c%e3%81%be%e3%81%a4%e3%82%8a2026%e2%94%82%e6%9c%9d%e6%9d%a5%e5%b8%82/
LOCATION:神子畑選鉱場跡\, 兵庫県朝来市佐嚢1826-1
CATEGORIES:朝来市
ATTACH;FMTTYPE=image/jpeg:https://iimono.town/wp-content/uploads/2021/08/1744848_m.jpg
END:VEVENT
BEGIN:VEVENT
DTSTART;TZID=Asia/Tokyo:20260405T100000
DTEND;TZID=Asia/Tokyo:20260405T160000
DTSTAMP:20260422T092246
CREATED:20260324T022737Z
LAST-MODIFIED:20260324T022737Z
UID:173239-1775383200-1775404800@iimono.town
SUMMARY:中国茶マルシェ│神河町
DESCRIPTION:4月5日に、仙霊茶園にて「中国茶マルシェ」が開催されます。 \n\n\n\n開催日時\n2026年4月5日（日）10:00～16:00\n\n\n場所\n仙霊茶園\n\n\n\n 
URL:https://iimono.town/event/%e4%b8%ad%e5%9b%bd%e8%8c%b6%e3%83%9e%e3%83%ab%e3%82%b7%e3%82%a7%e2%94%82%e7%a5%9e%e6%b2%b3%e7%94%ba/
LOCATION:仙霊茶園\, 679-2434 兵庫県神崎郡神河町吉冨１８７３
CATEGORIES:神河町
ATTACH;FMTTYPE=image/jpeg:https://iimono.town/wp-content/uploads/2026/03/aa.jpg
END:VEVENT
BEGIN:VEVENT
DTSTART;TZID=Asia/Tokyo:20260405T100000
DTEND;TZID=Asia/Tokyo:20260405T153000
DTSTAMP:20260422T092246
CREATED:20260330T052533Z
LAST-MODIFIED:20260330T052533Z
UID:173579-1775383200-1775403000@iimono.town
SUMMARY:桜華園 さくらまつり│神河町
DESCRIPTION:４月５日に、桜華園にて「さくらまつり」が開催されます。\nさまざまなステージイベントのほか、バザーやキッチンカーの出店など盛りだくさん！\nカーミンもやって来ますよ♪ \n\n\n\n開催日時\n2026年4月5日（日）10:00～15:30\n\n\n場所\n桜華園
URL:https://iimono.town/event/%e6%a1%9c%e8%8f%af%e5%9c%92-%e3%81%95%e3%81%8f%e3%82%89%e3%81%be%e3%81%a4%e3%82%8a%e2%94%82%e7%a5%9e%e6%b2%b3%e7%94%ba/
LOCATION:桜華園\, 679-2425　神河町東柏尾146
CATEGORIES:神河町
ATTACH;FMTTYPE=image/jpeg:https://iimono.town/wp-content/uploads/2026/03/795316b92fc766b0181f6fef074f03fa.jpg
END:VEVENT
BEGIN:VEVENT
DTSTART;TZID=Asia/Tokyo:20260404T100000
DTEND;TZID=Asia/Tokyo:20260405T203000
DTSTAMP:20260422T092246
CREATED:20260216T020908Z
LAST-MODIFIED:20260216T020908Z
UID:171504-1775296800-1775421000@iimono.town
SUMMARY:令和8年 北条節句祭り│加西市
DESCRIPTION:加西市にて、4月4日、5日の２日間に「北条節句祭り」が開催されます。\n東西の神輿、15台の豪華な屋台が町中での巡行と勇壮な宮入を行い、古式ゆかしい鶏合わせや龍王舞などの神事を奉納します。 \n\n\n\n開催日\n2026年4月4日（土）、5日（日）\n\n\n場所\n住吉神社\n\n\n\n節句祭り日程\n4月4日（土）\n10：00　本社祭典　／　浦安の舞\n12：00　奉納物本社入\n14：00　神輿出御\n14：20　御旅所着\n14：30　御旅所祭典 ／ 浦安の舞\n16：00　奉納物・神輿御旅所入\n18：00　奉納物引き取り \n4月5日（日）\n10：00　御旅所祭典 ／ 浦安の舞\n11：00　奉納物御旅所入\n13：00　龍王舞\n14：00　神輿出御\n14：20　浦安の舞\n15：00　播州加西あばれ太鼓\n16：20　奉納物本社入\n18：20　龍王舞\n20：00　鶏合せ\n20：10　拝礼・打ち別れ\n20：20　奉納物引き取り \n\n勇壮絢爛！加西「北条節句祭り」宵宮の宮入を見に行ってきた／加西市
URL:https://iimono.town/event/%e4%bb%a4%e5%92%8c8%e5%b9%b4-%e5%8c%97%e6%9d%a1%e7%af%80%e5%8f%a5%e7%a5%ad%e3%82%8a%e2%94%82%e5%8a%a0%e8%a5%bf%e5%b8%82/
LOCATION:加西市北条住吉神社\, 兵庫県加西市北条町北条1318
CATEGORIES:加西市
ATTACH;FMTTYPE=image/jpeg:https://iimono.town/wp-content/uploads/2026/02/56a3563b0c8ed016a796802e0484c139.jpg
END:VEVENT
BEGIN:VEVENT
DTSTART;TZID=Asia/Tokyo:20260404T100000
DTEND;TZID=Asia/Tokyo:20260405T170000
DTSTAMP:20260422T092246
CREATED:20260313T023640Z
LAST-MODIFIED:20260403T120239Z
UID:172556-1775296800-1775408400@iimono.town
SUMMARY:みっきぃ桜縁日2026│三木市
DESCRIPTION:４月4日は荒天予報のため中止\n三木市にある三木山総合公園にて「みっきぃ桜縁日2026」が開催されます。\nここでしか経験出来ないアトラクションやブースが盛り沢山！\n桜咲く公園でお花見と縁日イベントを一緒に感じられ家族でのお出かけにぴったりです。ピクニック気分でご来場頂き是非ご家族やご友人と一緒に遊んで食べて沢山の思い出を作って下さい。 \n\n\n\n開催日時\n2026年4月4日（土）、5日（日）10:00～17:00\n小雨決行・荒天中止\n\n\n場所\n三木山総合公園\n\n\n\nイベント内容\n・地域密着型イベントとなっており地元の団体多数、和太鼓や学校の吹奏楽部による演奏や、キッズダンスやエイサー、よさこいなど様々な音楽ステージあり\n・移動動物園や移動水族館、乗馬体験やマイクロブタとの触れ合い\n・ふわふわ遊具＆恐竜迷路\n・逆バンジー\n・子供用電動乗用カーに乗れる縁日サーキット\n・お姫様や王子様になりきれる縁日プリンセス＆プリンス\n・社会体験学習では重機操作体験、タイヤ交換体験、大工体験\n・キッチンカー＆露店飲食＆こども縁日＆物販ハンドメイドワークショップもあり \n 
URL:https://iimono.town/event/%e3%81%bf%e3%81%a3%e3%81%8d%e3%81%83%e6%a1%9c%e7%b8%81%e6%97%a52026%e2%94%82%e4%b8%89%e6%9c%a8%e5%b8%82/
LOCATION:三木山総合公園\, 673-0433 兵庫県三木市福井２４７５−５
CATEGORIES:兵庫県
ATTACH;FMTTYPE=image/jpeg:https://iimono.town/wp-content/uploads/2026/03/IMG_8945.jpeg
END:VEVENT
BEGIN:VEVENT
DTSTART;TZID=Asia/Tokyo:20260404T093000
DTEND;TZID=Asia/Tokyo:20260404T140000
DTSTAMP:20260422T092246
CREATED:20260313T015319Z
LAST-MODIFIED:20260403T101720Z
UID:172554-1775295000-1775311200@iimono.town
SUMMARY:【中止】第17回 民俗辻広場まつり│福崎町
DESCRIPTION:激しい雨が予想されるため、第17回民俗辻広場まつりの開催を中止とすることが決定\nhttps://www.town.fukusaki.hyogo.jp/0000006254.html\n4月4日（土）に、辻川山公園にて民俗辻広場まつりが開催されます。 \n地元団体による各出店では、特産品「もちむぎ」をはじめとするグルメ、工芸品が並びます。\nまたボランティアまつりとして、いろんな体験ブースが展開されておりスタンプラリーも開催。 \n桜の木をバックにしたステージでは、ダンスや演奏などがまつりを盛り上げます。\n柳田國男・松岡家記念館前では観桜会も同時開催。 \nさらに芝生広場にはKids Park「ASOBI.」とキッチンカーもやってきます。\n食べ物販売、体験教室など、見どころ・楽しみどころ満載です。桜満開の中でたくさんのイベントを楽しんでください。 \n\n\n\n開催日時\n2026年4月4日（土）9:30～14:00\n※雨天中止。小雨決行。\n\n\n場所\n第1グラウンド駐車場周辺
URL:https://iimono.town/event/%e7%ac%ac17%e5%9b%9e-%e6%b0%91%e4%bf%97%e8%be%bb%e5%ba%83%e5%a0%b4%e3%81%be%e3%81%a4%e3%82%8a%e2%94%82%e7%a6%8f%e5%b4%8e%e7%94%ba/
LOCATION:辻川山公園
CATEGORIES:福崎町
ATTACH;FMTTYPE=image/jpeg:https://iimono.town/wp-content/uploads/2026/03/omote.jpg
END:VEVENT
BEGIN:VEVENT
DTSTART;TZID=Asia/Tokyo:20260403T100000
DTEND;TZID=Asia/Tokyo:20260405T170000
DTSTAMP:20260422T092246
CREATED:20260319T074237Z
LAST-MODIFIED:20260319T074237Z
UID:172874-1775210400-1775408400@iimono.town
SUMMARY:第40回記念「ひめじぐるめらんど」│姫路市
DESCRIPTION:4月3日～4月5日に、大手前公園にて「ひめじぐるめらんど」が開催されます。\n春を彩る食のイベント。姫路・播磨を中心とする食品会社等で構成された団体が、播磨の名産品や特産品など、自慢の品々を展示・販売します。 \n\n\n\n開催日時\n2026年4月3日（金）～5日（日）10:00～17:00\n※初日は10:00からオープニングセレモニー開催\n\n\n場所\n大手前公園\n\n\n\nイベント内容\n・姫路・播磨の「食」を中心とした名産品や特産品などのブースが多数出店\n・ひめじぐるめらんどの第40回開催を記念してスタンプラリーを実施 \n[日時]　2026年4月4日(土)・5日(日) / 各日10:00～17:00　※4月3日(金)は実施しません。\n[内容]　3箇所のスタンプポイントを巡られた方は、各日とも先着順でノベルティをプレゼント。
URL:https://iimono.town/event/%e7%ac%ac40%e5%9b%9e%e8%a8%98%e5%bf%b5%e3%80%8c%e3%81%b2%e3%82%81%e3%81%98%e3%81%90%e3%82%8b%e3%82%81%e3%82%89%e3%82%93%e3%81%a9%e3%80%8d%e2%94%82%e5%a7%ab%e8%b7%af%e5%b8%82/
LOCATION:大手前公園\, 670-0012 兵庫県姫路市本町68番地24-1
CATEGORIES:姫路市
ATTACH;FMTTYPE=image/jpeg:https://iimono.town/wp-content/uploads/2026/03/00880e92e39f015c3bbb970e93872f90-26.jpg
END:VEVENT
BEGIN:VEVENT
DTSTART;TZID=Asia/Tokyo:20260329T100000
DTEND;TZID=Asia/Tokyo:20260329T150000
DTSTAMP:20260422T092246
CREATED:20260311T025852Z
LAST-MODIFIED:20260311T025852Z
UID:172363-1774778400-1774796400@iimono.town
SUMMARY:第11回 オーガニックコート│福崎町
DESCRIPTION:3月29日に、エルデホール芝生広場にて「第11回 オーガニックコート」が開催されます。 \n\n\n\n開催日時\n2026年3月29日（日）10:00～15:00\n\n\n場所\nエルデホール芝生広場
URL:https://iimono.town/event/%e7%ac%ac11%e5%9b%9e-%e3%82%aa%e3%83%bc%e3%82%ac%e3%83%8b%e3%83%83%e3%82%af%e3%82%b3%e3%83%bc%e3%83%88%e2%94%82%e7%a6%8f%e5%b4%8e%e7%94%ba/
LOCATION:福崎町エルデホール\, 679-2212 兵庫県神崎郡福崎町福田１１６−２
CATEGORIES:福崎町
ATTACH;FMTTYPE=image/jpeg:https://iimono.town/wp-content/uploads/2024/05/2604.jpg
END:VEVENT
BEGIN:VEVENT
DTSTART;TZID=Asia/Tokyo:20260328T100000
DTEND;TZID=Asia/Tokyo:20260328T160000
DTSTAMP:20260422T092246
CREATED:20260312T015229Z
LAST-MODIFIED:20260312T015229Z
UID:172386-1774692000-1774713600@iimono.town
SUMMARY:FukuFes.│福崎町
DESCRIPTION:3月28日に、エルデホール芝生広場にて「FukuFes.」が開催されます。 \n\n\n\n開催日時\n2026年3月28日(土)　10:00〜16:00\n\n\n場所\n福崎町エルデホール芝生広場
URL:https://iimono.town/event/fukufes-%e2%94%82%e7%a6%8f%e5%b4%8e%e7%94%ba-2/
LOCATION:福崎町エルデホール\, 679-2212 兵庫県神崎郡福崎町福田１１６−２
CATEGORIES:福崎町
ATTACH;FMTTYPE=image/jpeg:https://iimono.town/wp-content/uploads/2026/01/FukuFes.jpg
END:VEVENT
BEGIN:VEVENT
DTSTART;TZID=Asia/Tokyo:20260328T100000
DTEND;TZID=Asia/Tokyo:20260328T160000
DTSTAMP:20260422T092246
CREATED:20260303T041345Z
LAST-MODIFIED:20260303T041345Z
UID:172100-1774692000-1774713600@iimono.town
SUMMARY:第41回 姫路城観桜会│姫路市
DESCRIPTION:3月28日に、姫路城にて「第41回 姫路城観桜会」が開催されます。同時開催で「姫路城夜桜会」「好古園夜桜会」も開催されます。 \n\n\n\n開催日時\n2026年3月28日（土）10:00～16:00\n※雨天の場合は3月29日(日)\n\n\n場所\n姫路城三の丸広場\n\n\n\nイベント内容\nおもてなしコーナー (10:00～16:00)\n・お茶席 (限定お茶菓子付) / 姫路茶華道会 (表千家)\n・地酒 / 姫路酒造協同組合\n・千姫弁当、おもてなしカフェ / 姫路料飲組合連合会\n・お花見菓子 / 姫路菓子組合\n・姫路おでん / 西播水産煉製品協会\n・揚げかまぼこ / 西播水産煉製品協会 \nステージプログラム\n筝曲演奏、日本舞踊、和太鼓演奏 ほか \n同時開催イベント\n姫路城夜桜会\n\n\n\n日時\n2026年3月27日（金）～4月5日（日）\n18:30～21:00 (入城は20:30まで) ※雨天決行\n\n\n場所\n姫路城西の丸庭園\n\n\n観覧料\n大人(18歳以上)：600円\n\n\n\n好古園夜桜会\n\n\n\n日時\n2026年3月27日（日）～29日（日）4月3日（金）～5日（日）\n18:00～20:00 (入園は19:30まで) ※雨天決行\n\n\n場所\n姫路城西御屋敷跡庭園 好古園\n\n\n入園料\n大人 (18歳以上)：400円
URL:https://iimono.town/event/%e7%ac%ac41%e5%9b%9e-%e5%a7%ab%e8%b7%af%e5%9f%8e%e8%a6%b3%e6%a1%9c%e4%bc%9a/
LOCATION:姫路城三の丸広場
CATEGORIES:姫路市
ATTACH;FMTTYPE=image/jpeg:https://iimono.town/wp-content/uploads/2026/03/00880e92e39f015c3bbb970e93872f90-4.jpg
END:VEVENT
BEGIN:VEVENT
DTSTART;TZID=Asia/Tokyo:20260327T183000
DTEND;TZID=Asia/Tokyo:20260405T210000
DTSTAMP:20260422T092246
CREATED:20260318T013435Z
LAST-MODIFIED:20260318T013435Z
UID:172783-1774636200-1775422800@iimono.town
SUMMARY:姫路城夜桜会「春彩舞桜 (はるいろまいざくら)」│姫路市
DESCRIPTION:3月27日～4月5日の期間、姫路城の西の丸庭園にて「姫路城夜桜会「春彩舞桜」」が開催されます。 \n\n\n\n開催日時\n2026年3月27日（金）～4月5日（日）18:30～21:00 (最終入城は20:30まで)\n\n\n場所\n姫路城有料区域 (西の丸庭園ほか)\n\n\n観覧料\n大人：600円 / 18歳未満：無料\n※18歳未満とは18歳に達する日以降の最初の3月31日までの間にある者を含みます。\n\n\n\n事前のご予約は必要ありません。\n当日券売機にて観覧券を購入していただくか、もしくはデジタルチケットにて事前に観覧券をお買い求めください。 \n主な演出\n\n今年の夜桜会は、儚くも美しく【舞】う【桜】をテーマとし、千姫が過ごした西の丸庭園全体に、【春】を【彩】る桜の美しさ幻想的な光の演出で表現します。\n白・薄ピンクを基調にライトアップを行い、特別演出の際にはそれぞれのライトアップの色味の濃淡に変化を出した演出を行います。\n西の丸庭園全体にミラーボールの光を行き渡らせ、各々の光に動きをつけることで、桜が舞う様子を幻想的に表現します。\n菱の門では、点・線・面による表現を組み合わせた「映像技術✕照明デザインを駆使した新たなライトアップ」を実施します。音楽に合わせて繊細かつ立体的に浮き上がってくる光の演出を催します。\nストリートピアノを西の丸庭園に設置し、姫路市ホームページや新聞広告等からの応募者による演奏を実施します（金土日限定）。\n\n \n 
URL:https://iimono.town/event/%e5%a7%ab%e8%b7%af%e5%9f%8e%e5%a4%9c%e6%a1%9c%e4%bc%9a%e3%80%8c%e6%98%a5%e5%bd%a9%e8%88%9e%e6%a1%9c-%e3%81%af%e3%82%8b%e3%81%84%e3%82%8d%e3%81%be%e3%81%84%e3%81%96%e3%81%8f%e3%82%89%e3%80%8d/
LOCATION:姫路城\, 670-0012 兵庫県姫路市本町６８
CATEGORIES:姫路市
ATTACH;FMTTYPE=image/jpeg:https://iimono.town/wp-content/uploads/2026/03/00880e92e39f015c3bbb970e93872f90-23.jpg
END:VEVENT
BEGIN:VEVENT
DTSTART;TZID=Asia/Tokyo:20260325T143000
DTEND;TZID=Asia/Tokyo:20260325T203000
DTSTAMP:20260422T092246
CREATED:20260123T020640Z
LAST-MODIFIED:20260123T020640Z
UID:170814-1774449000-1774470600@iimono.town
SUMMARY:姫路レザーファッションショー2026│姫路市
DESCRIPTION:3月25日に、ホテルモントレ姫路にて「姫路レザーファッションショー2026」が開催されます。 \n\n\n\n開催日\n2026年3月25日（水）\n\n\n時間\n・第1部：14:30～ (フリードリンク付き、ファッションショースタイル)\n・第2部：18:30～ (ディナーショースタイル)\n\n\n場所\nホテルモントレ姫路 3階 大宴会場「ベルヴェデーレ」\n\n\n\n  \n 
URL:https://iimono.town/event/%e5%a7%ab%e8%b7%af%e3%83%ac%e3%82%b6%e3%83%bc%e3%83%95%e3%82%a1%e3%83%83%e3%82%b7%e3%83%a7%e3%83%b3%e3%82%b7%e3%83%a7%e3%83%bc2026%e2%94%82%e5%a7%ab%e8%b7%af%e5%b8%82/
LOCATION:ホテルモントレ姫路\, 姫路市駅前町60
CATEGORIES:姫路市
ATTACH;FMTTYPE=image/jpeg:https://iimono.town/wp-content/uploads/2026/01/00880e92e39f015c3bbb970e93872f90-14.jpg
END:VEVENT
BEGIN:VEVENT
DTSTART;TZID=Asia/Tokyo:20260321T110000
DTEND;TZID=Asia/Tokyo:20260321T190000
DTSTAMP:20260422T092246
CREATED:20260219T054906Z
LAST-MODIFIED:20260219T054906Z
UID:171653-1774090800-1774119600@iimono.town
SUMMARY:もっとみんなでやきゅうしようよ in 姫路2026
DESCRIPTION:3月21日に、ウインク球場にて「もっとみんなでやきゅうしようよ in 姫路2026」が開催されます。 \n\n\n\n開催日時\n2026年3月21日（土）11:00～19:00 (少雨決行)\n※雨天の場合、周辺エリアで代替プログラムを実施予定\n\n\n場所\nウインク球場\n\n\n入場料\n無料 (一部有料コンテンツ有)\n\n\n\nイベントプログラム (予定)\n・熱血！タイガース党選抜チーム vs. 上方ホンキッキーズ ドリームマッチ\n・福本豊×糸井嘉男 スペシャルトークショー\n・今成亮太さんと野球パフォーマンスコーチによる野球教室\n・グラウンドでみんなで体を動かそう！(ベースランニング選手権、遠投選手権、自由にキャッチボールエリア)\n・サンテレビ大型中継車でスイッチャー体験\n・デジタルスタンプラリー\n・応援デコメガホンづくりワークショップ\n・飲食ブース (キッチンカー)\n・協賛企業ブース\n・グッズ販売\n・着ぐるみグリーティング \n※上記イベントプログラムは現時点での予定のため、変更の可能性があります。ご了承ください。 \nドリームマッチ監督・主な出場選手\n◆監督\n・福本豊 (熱血！タイガース党選抜チーム)\n・星野伸之 (上方ホンキッキーズ) \n◆主な出場選手 (順不同、敬称略)\n葛城育郎 / 濱中治 / 井川慶 / 糸井嘉男 / 狩野恵輔 / 岩田稔 / 今成亮太 / 石崎剛 / 秋山拓巳 / 高野圭佑 / 松田遼馬 / 片山雄哉 / バッテリィズ (エース、寺家) / おたまじゃくし中西 / その他上方ホンキッキーズメンバー　ほか
URL:https://iimono.town/event/%e3%82%82%e3%81%a3%e3%81%a8%e3%81%bf%e3%82%93%e3%81%aa%e3%81%a7%e3%82%84%e3%81%8d%e3%82%85%e3%81%86%e3%81%97%e3%82%88%e3%81%86%e3%82%88-in-%e5%a7%ab%e8%b7%af2026/
LOCATION:ウインク球場\, 670-0974 兵庫県姫路市飯田５４０
CATEGORIES:姫路市
ATTACH;FMTTYPE=image/jpeg:https://iimono.town/wp-content/uploads/2026/02/IMG_5829.jpg
END:VEVENT
BEGIN:VEVENT
DTSTART;TZID=Asia/Tokyo:20260321T100000
DTEND;TZID=Asia/Tokyo:20260322T160000
DTSTAMP:20260422T092246
CREATED:20260226T044910Z
LAST-MODIFIED:20260226T044910Z
UID:171843-1774087200-1774195200@iimono.town
SUMMARY:いちごフェス│姫路市
DESCRIPTION:3月21日・21日に、ピオレ姫路にて2年ぶりに「いちごフェス」が開催されます。\nいちごの食べ比べや、かわいいスイーツなど。いちごを思いっきり楽しめるイベントです♪ \n\n\n\n開催日時\n2026年3月21日（土）、22日（日）10:00～16:00\n\n\n場所\nピオレ１ 屋上広場
URL:https://iimono.town/event/%e3%81%84%e3%81%a1%e3%81%94%e3%83%95%e3%82%a7%e3%82%b9%e2%94%82%e5%a7%ab%e8%b7%af%e5%b8%82/
LOCATION:ピオレ姫路\, 670-0927 兵庫県姫路市駅前町１８８−１
CATEGORIES:姫路市
ATTACH;FMTTYPE=image/jpeg:https://iimono.town/wp-content/uploads/2023/01/20230112-022_R.jpg
END:VEVENT
BEGIN:VEVENT
DTSTART;TZID=Asia/Tokyo:20260320T100000
DTEND;TZID=Asia/Tokyo:20260320T150000
DTSTAMP:20260422T092246
CREATED:20260319T013428Z
LAST-MODIFIED:20260319T013428Z
UID:172831-1774000800-1774018800@iimono.town
SUMMARY:国道312号感謝デー│神河町
DESCRIPTION:3月20日に、道の駅「銀の馬車道・神河」にて「国道312号感謝デー」が開催されます。 \n\n\n\n開催日時\n2026年3月20日（金･祝）10:00～15:00\n\n\n場所\n道の駅「銀の馬車道・神河」
URL:https://iimono.town/event/%e5%9b%bd%e9%81%93312%e5%8f%b7%e6%84%9f%e8%ac%9d%e3%83%87%e3%83%bc%e2%94%82%e7%a5%9e%e6%b2%b3%e7%94%ba/
LOCATION:道の駅「銀の馬車道・神河」\, 神河町吉冨88番地10
CATEGORIES:神河町
ATTACH;FMTTYPE=image/jpeg:https://iimono.town/wp-content/uploads/2026/03/HDr1mmcbUAAeoaE.jpg
END:VEVENT
BEGIN:VEVENT
DTSTART;TZID=Asia/Tokyo:20260320T100000
DTEND;TZID=Asia/Tokyo:20260320T140000
DTSTAMP:20260422T092246
CREATED:20260216T045159Z
LAST-MODIFIED:20260216T045159Z
UID:171517-1774000800-1774015200@iimono.town
SUMMARY:カーミンの春祭り│神河町
DESCRIPTION:3月20日に、カーミンの観光案内所前広場にて「カーミンの春祭り」が開催されます。\nダンス、バルーンパフォーマンス等のステージイベントや、地元団体による出店あり！神河町マスコットキャラクターのカーミンも登場し、会場を盛り上げます。 \n\n\n\n開催日時\n2026年3月20日（祝・金）10:00～14:00\n\n\n場所\nカーミンの観光案内所前広場
URL:https://iimono.town/event/%e3%82%ab%e3%83%bc%e3%83%9f%e3%83%b3%e3%81%ae%e6%98%a5%e7%a5%ad%e3%82%8a%e2%94%82%e7%a5%9e%e6%b2%b3%e7%94%ba/
LOCATION:カーミンの観光案内所\, 679-3112　神河町鍛治142-47
CATEGORIES:神河町
ATTACH;FMTTYPE=image/jpeg:https://iimono.town/wp-content/uploads/2024/07/S2060007.jpg
END:VEVENT
BEGIN:VEVENT
DTSTART;TZID=Asia/Tokyo:20260314T110000
DTEND;TZID=Asia/Tokyo:20260314T150000
DTSTAMP:20260422T092246
CREATED:20260218T012453Z
LAST-MODIFIED:20260218T012453Z
UID:171588-1773486000-1773500400@iimono.town
SUMMARY:第6回 ティラノ運動会 in 姫路
DESCRIPTION:3月14日に、家老屋敷跡公園にて「第6回 ティラノ運動会 in 姫路」が開催されます。\nただいま参加者申し込み受付中。ぜひご参加ください。 \n\n\n\n開催日時\n2026年3月14日（土）11:00～15:00\n\n\n場所\n姫路城前の家老屋敷跡公園\n\n\n募集人数\n男性：50人、女性：50人、子供：50人\n\n\n参加費用\n2\,000円\n\n\n募集締切\n2026年3月11日(水)\n\n\n\n申込はこちらから！ \nhttps://docs.google.com/forms/d/e/1FAIpQLSfmPsxjq4dFTU-gkvNnXGIC_4TGmP3H0NmIT3qE6N3acE4Wcw/viewform
URL:https://iimono.town/event/%e7%ac%ac6%e5%9b%9e-%e3%83%86%e3%82%a3%e3%83%a9%e3%83%8e%e9%81%8b%e5%8b%95%e4%bc%9a-in-%e5%a7%ab%e8%b7%af/
LOCATION:家老屋敷跡公園\, 670-0012 兵庫県姫路市本町６８−１００
CATEGORIES:姫路市
ATTACH;FMTTYPE=image/jpeg:https://iimono.town/wp-content/uploads/2026/02/00880e92e39f015c3bbb970e93872f90-6.jpg
END:VEVENT
BEGIN:VEVENT
DTSTART;TZID=Asia/Tokyo:20260314T100000
DTEND;TZID=Asia/Tokyo:20260314T160000
DTSTAMP:20260422T092246
CREATED:20260218T023407Z
LAST-MODIFIED:20260218T023407Z
UID:171611-1773482400-1773504000@iimono.town
SUMMARY:「JR手柄山平和公園駅」開業記念 第3回ショクナナフェス│姫路市
DESCRIPTION:関西の花と緑の普及を目的としているYouTube「ショクナナ！植物遊戯7チャンネル」。多くの視聴者を獲得している人気番組の出演者が年に一度集結し、トークショーやワークショップが開催されます。 \n\n\n\n開催日時\n2026年3月14日（土）10:00～16:00\n\n\n場所\n手柄山温室植物園\n\n\nナビゲーター\n加田 智志 氏\n\n\n\nイベント内容\nトークショー①「オープンガーデンを通して広がる花と緑のまちづくり」\n参加者に「花苗」プレゼント！ \n\n\n\n時間\n10:30～11:30\n\n\n会場\n手柄山温室植物園　※雨天時は「手柄山交流ステーション」へ変更\n\n\n定員\n50名 (当日受付 ※先着順)\n\n\n出演\n富山 昌克 氏 (園芸研究家)\n\n\nゲスト\nなかはりまオープンガーデンの庭主さん\n\n\n\n講演会「エルフガーデンの秘密～ローメンテナンスのガーデンづくり～」\n参加者に「花苗」プレゼント！ \n\n\n\n時間\n12:30～13:30\n\n\n場所\n手柄山温室植物園\n\n\n定員\n30名 (当日受付 ※先着順)\n\n\n講師\n城山 豊 氏 (咲くやこの花館館長)\n\n\n\n室内展示\n・「モルタルガーデン展」花の谷オールドビレッジ\n・「プリザーブドフラワー展」ユニバーサルデザイナーズ協会\n・ワークショップ (苔トピアリーづくり、世界にひとつだけの「食虫植物ハーバリウム」)\n・植物園内フォトスポット (無料貸し出し撮影用お花アイテム) \nトークショー②「第3回 素晴らしき自生地の旅トークショー」\n参加者に「花苗」プレゼント！ \n\n\n\n場所\n手柄山交流ステーション\n\n\n定員\n100名 (当日受付 ※先着順)\n\n\n出演\n本田 高史 氏 (ショクナナ植物研究所 所長)、土居 寛文 氏 (兵庫フラワーセンター専門員)、朝井 健史 氏 (手柄山温室植物園副園長)、松本 修二 氏 (手柄山温室植物園研究員)、南 あこ 氏 (Heli’s Garden)\n\n\n\n見る・学ぶ・買う・語るをひとつにした体験型コーナー\n\n\n\n参加者\nHeli’s Garden、Plants Base、native forest、エリオクエスト竜馬、日本パルダリウム愛好会\n\n\n内容\n「パルダリウム」を製作できるコーナー、土居先生の植物相談コーナー\n\n\n\n 
URL:https://iimono.town/event/%e3%80%8cjr%e6%89%8b%e6%9f%84%e5%b1%b1%e5%b9%b3%e5%92%8c%e5%85%ac%e5%9c%92%e9%a7%85%e3%80%8d%e9%96%8b%e6%a5%ad%e8%a8%98%e5%bf%b5-%e7%ac%ac3%e5%9b%9e%e3%82%b7%e3%83%a7%e3%82%af%e3%83%8a%e3%83%8a/
LOCATION:手柄山温室植物園
CATEGORIES:姫路市
ATTACH;FMTTYPE=image/jpeg:https://iimono.town/wp-content/uploads/2026/02/1-2.jpg
END:VEVENT
BEGIN:VEVENT
DTSTART;TZID=Asia/Tokyo:20260314T100000
DTEND;TZID=Asia/Tokyo:20260314T150000
DTSTAMP:20260422T092246
CREATED:20260305T085829Z
LAST-MODIFIED:20260305T085829Z
UID:172179-1773482400-1773500400@iimono.town
SUMMARY:バスとじてんしゃのなかよしフェスタ│姫路市
DESCRIPTION:3月14日に、ゆめタウン姫路にて「バスとじてんしゃのなかよしフェスタ」が開催されます。 \n\n\n\n開催日時\n2026年3月14日（土）10:00～15:00\n※11:00～オープニングイベントを開催\n\n\n場所\nゆめタウン姫路\n\n\n\nイベント内容\nしろまるひめもやってきて、サイクル＆バスライドのほか、公共交通の利用促進に向けた取組を紹介。また、バスの乗車体験等を通して、バスなどの公共交通に親しんでもらうイベントとして開催します。 \n車両展示 (ゆめタウン姫路屋外 宝くじ売り場)\n・バス車両の展示と乗車体験\n・子どもたち向けのバス運転手の制服着用体験 \nスタンプラリー (ゆめタウン姫路1階 ウエルカムコート 2～5階 エレベーターホール)\n・ゆめタウン姫路の各階に設置しているサイクル＆バスライドに関するスタンプを集めた参加者全員にノベルティを進呈\n・参加者の中から抽選でイベント限定オリジナルグッズをプレゼント \nイベントブース (ゆめタウン姫路2階 ゆめ広場)\n・キャラクターグリーティング：しろまるひめやゆめタウンのオリジナルキャラクター ユーくんとメーちゃんとの写真撮影 (カメラやスマートフォン等は、各自でご準備ください。)\n・グッズの販売：路線バスに関連したイベントオリジナルグッズ、しろまるひめのスタンプ など\n・公共交通利用促進ブース (姫路市出展)：サイクル＆ライドの案内、ＪＲ姫新線ファンクラブの紹介 など
URL:https://iimono.town/event/%e3%83%90%e3%82%b9%e3%81%a8%e3%81%98%e3%81%a6%e3%82%93%e3%81%97%e3%82%83%e3%81%ae%e3%81%aa%e3%81%8b%e3%82%88%e3%81%97%e3%83%95%e3%82%a7%e3%82%b9%e3%82%bf%e2%94%82%e5%a7%ab%e8%b7%af%e5%b8%82/
LOCATION:ゆめタウン姫路\, 姫路市神子岡前3丁目12-17
CATEGORIES:姫路市
ATTACH;FMTTYPE=image/jpeg:https://iimono.town/wp-content/uploads/2026/03/3-1.jpg
END:VEVENT
END:VCALENDAR