BEGIN:VCALENDAR
VERSION:2.0
PRODID:-//いいものタウン - ECPv6.3.7//NONSGML v1.0//EN
CALSCALE:GREGORIAN
METHOD:PUBLISH
X-WR-CALNAME:いいものタウン
X-ORIGINAL-URL:https://iimono.town
X-WR-CALDESC:いいものタウン のイベント
REFRESH-INTERVAL;VALUE=DURATION:PT1H
X-Robots-Tag:noindex
X-PUBLISHED-TTL:PT1H
BEGIN:VTIMEZONE
TZID:Asia/Tokyo
BEGIN:STANDARD
TZOFFSETFROM:+0900
TZOFFSETTO:+0900
TZNAME:JST
DTSTART:20250101T000000
END:STANDARD
END:VTIMEZONE
BEGIN:VEVENT
DTSTART;TZID=Asia/Tokyo:20251206T180000
DTEND;TZID=Asia/Tokyo:20251206T180000
DTSTAMP:20260422T022718
CREATED:20251113T045916Z
LAST-MODIFIED:20251113T045916Z
UID:167676-1765044000-1765044000@iimono.town
SUMMARY:バルーンナイトwith姫路城│姫路市
DESCRIPTION:12月6日に、シロトピア記念公園にて「バルーンナイトwith姫路城」が開催されます。\n炎と光に浮かぶ巨大バルーン2基が、姫路城とコラボする幻想的な姿を間近で感じられます。\nその他、自衛隊による太鼓演舞、盆踊りSideby姫路城、姫路城deワンナイトキャンプ、キッチンカーの数々などが堪能できる、音楽と光に包まれる特別な一夜をお楽しみください。 \n\n\n\n開催日時\n2025年12月6日（土）18:00～\n\n\n場所\nシロトピア記念公園\n\n\n\n 
URL:https://iimono.town/event/balloon/
LOCATION:シロトピア記念公園\, 670-0012　​兵庫県姫路市本町68番地
CATEGORIES:姫路市
ATTACH;FMTTYPE=image/jpeg:https://iimono.town/wp-content/uploads/2025/11/2-6.jpg
END:VEVENT
END:VCALENDAR