BEGIN:VCALENDAR
VERSION:2.0
PRODID:-//いいものタウン - ECPv6.3.7//NONSGML v1.0//EN
CALSCALE:GREGORIAN
METHOD:PUBLISH
X-ORIGINAL-URL:https://iimono.town
X-WR-CALDESC:いいものタウン のイベント
REFRESH-INTERVAL;VALUE=DURATION:PT1H
X-Robots-Tag:noindex
X-PUBLISHED-TTL:PT1H
BEGIN:VTIMEZONE
TZID:Asia/Tokyo
BEGIN:STANDARD
TZOFFSETFROM:+0900
TZOFFSETTO:+0900
TZNAME:JST
DTSTART:20260101T000000
END:STANDARD
END:VTIMEZONE
BEGIN:VEVENT
DTSTART;TZID=Asia/Tokyo:20260429T100000
DTEND;TZID=Asia/Tokyo:20260429T160000
DTSTAMP:20260422T074015
CREATED:20260414T043826Z
LAST-MODIFIED:20260414T043826Z
UID:174378-1777456800-1777478400@iimono.town
SUMMARY:SORASIDO PARK2026│加西市
DESCRIPTION:4月29日に、soraかさいにて「SORASIDO PARK2026」が開催されます。 \n\n\n\n開催日時\n2026年4月29日（水･祝）10:00～16:00\n\n\n場所\nsoraかさい
URL:https://iimono.town/event/sorasido-park2026%e2%94%82%e5%8a%a0%e8%a5%bf%e5%b8%82/
LOCATION:soraかさい\, 675-2103 兵庫県加西市鶉野町2274-11
CATEGORIES:加西市
ATTACH;FMTTYPE=image/jpeg:https://iimono.town/wp-content/uploads/2022/08/IMG_8689.jpg
END:VEVENT
BEGIN:VEVENT
DTSTART;TZID=Asia/Tokyo:20260429T100000
DTEND;TZID=Asia/Tokyo:20260429T170000
DTSTAMP:20260422T074015
CREATED:20260401T063727Z
LAST-MODIFIED:20260401T063727Z
UID:173746-1777456800-1777482000@iimono.town
SUMMARY:市川ハウスフェス2026│市川町
DESCRIPTION:4月29日に、市川町文化センターにて「市川ハウスフェス2026」が開催されます。 \n\n\n\n開催日時\n2026年4月29日（水･祝）10:00～17:00\n\n\n場所\n市川町文化センター 芝生広場\n\n\n\n内容\n\n吉本興業の芸人によるネタ、ゲーム、ステージ\nキッチンカー多数出店\n豪華抽選会\n市川ハウスツアー実施
URL:https://iimono.town/event/%e5%b8%82%e5%b7%9d%e3%83%8f%e3%82%a6%e3%82%b9%e3%83%95%e3%82%a7%e3%82%b92026%e2%94%82%e5%b8%82%e5%b7%9d%e7%94%ba/
LOCATION:市川町文化センター\, 西川辺７１５\, 神崎郡市川町\, 兵庫県\, 〒679-2315\, 日本
CATEGORIES:市川町
ATTACH;FMTTYPE=image/jpeg:https://iimono.town/wp-content/uploads/2021/10/061.jpg
END:VEVENT
BEGIN:VEVENT
DTSTART;TZID=Asia/Tokyo:20260502T100000
DTEND;TZID=Asia/Tokyo:20260506T170000
DTSTAMP:20260422T074015
CREATED:20260305T010312Z
LAST-MODIFIED:20260305T010312Z
UID:172133-1777716000-1778086800@iimono.town
SUMMARY:第14回 ロハスパーク姫路@大手前公園│姫路市
DESCRIPTION:5月2日～6日の期間に、大手前公園にて「第14回 ロハスパーク姫路@大手前公園」が開催されます。\nステージでのパフォーマンスショーや、お子さまが楽しめるふわふわ遊具やサーカス体験、ポニー乗馬など体験イベントも盛りだくさんです！ \n\n\n\n開催日時\n2026年5月2日(土)～6日(水)　10:00～17:00\n※雨天決行\n\n\n場所\n大手前公園
URL:https://iimono.town/event/%e7%ac%ac14%e5%9b%9e-%e3%83%ad%e3%83%8f%e3%82%b9%e3%83%91%e3%83%bc%e3%82%af%e5%a7%ab%e8%b7%af%e5%a4%a7%e6%89%8b%e5%89%8d%e5%85%ac%e5%9c%92%e2%94%82%e5%a7%ab%e8%b7%af%e5%b8%82/
LOCATION:大手前公園\, 670-0012 兵庫県姫路市本町68番地24-1
CATEGORIES:姫路市
ATTACH;FMTTYPE=image/jpeg:https://iimono.town/wp-content/uploads/2026/03/1-13.jpg
END:VEVENT
BEGIN:VEVENT
DTSTART;TZID=Asia/Tokyo:20260503T093000
DTEND;TZID=Asia/Tokyo:20260503T093000
DTSTAMP:20260422T074015
CREATED:20260409T013053Z
LAST-MODIFIED:20260409T013053Z
UID:174124-1777800600-1777800600@iimono.town
SUMMARY:町制70周年記念式典│福崎町
DESCRIPTION:福崎町は令和8年5月3日に町制70周年を迎えます。70周年を記念して、5月3日(日・祝)エルデホールにて記念式典が開催されます。 \n\n\n\n開催日時\n2026年5月3日（日･祝）9:45～\n\n\n場所\nエルデホール・エルデホール周辺\n\n\n\n※雨天決行となります。（ただし屋外でのイベントは変更になる場合があります） \n内容\nメインホール\n・オープニング、記念式典\n・「アルミカン」の漫才（福崎町ふるさと大使のマッチョ赤坂さんのお笑いコンビ）\n・YOKAI音頭披露（和楽・何かようかい（旧OsakaMasters））\n・Fukusaki百鬼夜行(どなたでも参加・観覧可) \n※オープニング・記念式典は招待者・受賞者優先になります。 \nロビー・テラス\n・妖怪ベンチ大集合\n・妖怪造形・妖怪プラモの展示\n・Fuku Fes(キッズパーク・キッチンカー)
URL:https://iimono.town/event/%e7%94%ba%e5%88%b670%e5%91%a8%e5%b9%b4%e8%a8%98%e5%bf%b5%e5%bc%8f%e5%85%b8%e2%94%82%e7%a6%8f%e5%b4%8e%e7%94%ba/
LOCATION:福崎町エルデホール\, 679-2212 兵庫県神崎郡福崎町福田１１６−２
CATEGORIES:福崎町
ATTACH;FMTTYPE=image/jpeg:https://iimono.town/wp-content/uploads/2026/04/00880e92e39f015c3bbb970e93872f90-5.jpg
END:VEVENT
BEGIN:VEVENT
DTSTART;TZID=Asia/Tokyo:20260503T100000
DTEND;TZID=Asia/Tokyo:20260505T160000
DTSTAMP:20260422T074015
CREATED:20260409T083114Z
LAST-MODIFIED:20260409T083114Z
UID:174182-1777802400-1777996800@iimono.town
SUMMARY:令和8年度 書写山新緑まつり│姫路市
DESCRIPTION:新緑が芽吹く書写山で、「書写山新緑まつり」が開催されます。期間中は国指定重要文化財や県指定文化財の特別公開も行われます。当日はキッチンカーや露店が出店する予定です。 \n\n\n\n開催日時\n2026年5月3日（日･祝）～5月5日（火･祝）\n10:00～16:00\n\n\n場所\n書寫山圓教寺\n\n\n\nイベント内容\n書寫山圓教寺重要文化財特別公開\n日時\n2026年5月3日（日･祝）から5月5日（火･祝）　10:00～16:00 \n内容\n「書写山新緑まつり」期間中は下記の重要文化財を特別公開します。（写真は一部のみ掲載しています。） \n\n大講堂内部および釈迦三尊像、木造四天王立像（国指定重要文化財）\n常行堂内部および阿弥陀如来坐像（国指定重要文化財）\n本多家廟屋（県指定文化財）\n（注）文化財保護のため、雨天時は特別公開等を中止する場合があります。
URL:https://iimono.town/event/%e4%bb%a4%e5%92%8c8%e5%b9%b4%e5%ba%a6-%e6%9b%b8%e5%86%99%e5%b1%b1%e6%96%b0%e7%b7%91%e3%81%be%e3%81%a4%e3%82%8a%e2%94%82%e5%a7%ab%e8%b7%af%e5%b8%82/
LOCATION:書写山\, 671-2201 姫路市書写2968
CATEGORIES:姫路市
ATTACH;FMTTYPE=image/jpeg:https://iimono.town/wp-content/uploads/2026/04/1.jpg
END:VEVENT
BEGIN:VEVENT
DTSTART;TZID=Asia/Tokyo:20260505T100000
DTEND;TZID=Asia/Tokyo:20260505T150000
DTSTAMP:20260422T074015
CREATED:20260416T022918Z
LAST-MODIFIED:20260416T022918Z
UID:174479-1777975200-1777993200@iimono.town
SUMMARY:GO!GO!ちびっこ鉄道フェスティバル│姫路市
DESCRIPTION:5月5日に、姫路駅北交通広場にて「GO!GO!ちびっこ鉄道フェスティバル」が開催されます。\n「ピオレ姫路 × JR西日本 × 姫路モノレール」のコラボイベントです。 \n\n\n\n開催日時\n2026年5月5日（火・祝）10:00～15:00\n※一部、期間限定のコンテンツあり\n\n\n場所\nJR姫路駅北交通広場周辺\n（キャッスルビュー1F、ピオレパルクにて開催）\n※荒天の場合変更となる可能性がございます。
URL:https://iimono.town/event/gogo%e3%81%a1%e3%81%b3%e3%81%a3%e3%81%93%e9%89%84%e9%81%93%e3%83%95%e3%82%a7%e3%82%b9%e3%83%86%e3%82%a3%e3%83%90%e3%83%ab%e2%94%82%e5%a7%ab%e8%b7%af%e5%b8%82/
LOCATION:姫路駅北交通広場
CATEGORIES:姫路市
ATTACH;FMTTYPE=image/jpeg:https://iimono.town/wp-content/uploads/2021/12/238.jpg
END:VEVENT
BEGIN:VEVENT
DTSTART;TZID=Asia/Tokyo:20260505T100000
DTEND;TZID=Asia/Tokyo:20260505T160000
DTSTAMP:20260422T074015
CREATED:20260407T085600Z
LAST-MODIFIED:20260407T085600Z
UID:174044-1777975200-1777996800@iimono.town
SUMMARY:パンとコーヒーのマルシェ│姫路市
DESCRIPTION:5月5日にアクリエひめじにて「パンとコーヒーのマルシェ」が開催されます。\nパンやコーヒー、軽食などこだわりのお店が並びます。 \n\n\n\n開催日時\n2026年5月5日（火・祝）10:00〜16:00\n\n\n場所\nアクリエひめじ
URL:https://iimono.town/event/%e3%83%91%e3%83%b3%e3%81%a8%e3%82%b3%e3%83%bc%e3%83%92%e3%83%bc%e3%81%ae%e3%83%9e%e3%83%ab%e3%82%b7%e3%82%a7%e2%94%82%e5%a7%ab%e8%b7%af%e5%b8%82/
LOCATION:アクリエひめじ\, 670-0836　兵庫県姫路市神屋町143-2
CATEGORIES:姫路市
ATTACH;FMTTYPE=image/jpeg:https://iimono.town/wp-content/uploads/2025/06/274.jpg
END:VEVENT
BEGIN:VEVENT
DTSTART;TZID=Asia/Tokyo:20260516T100000
DTEND;TZID=Asia/Tokyo:20260517T170000
DTSTAMP:20260422T074015
CREATED:20260317T011954Z
LAST-MODIFIED:20260317T011954Z
UID:172686-1778925600-1779037200@iimono.town
SUMMARY:2026 ひめじアーティストフェスティバル│姫路市
DESCRIPTION:5月16日、17日にシロトピア記念公園にて「2026 ひめじアーティストフェスティバル」が開催されます。\n全国から168名の手づくり作家が出展。作家による実演やワークショップも開催。会場内にはフード・ドリンクコーナーも。 \n\n\n\n開催日時\n2026年5月16日(土) / 10:00～17:00\n2026年5月17日(日) / 10:00～16:00\n\n\n場所\nシロトピア記念公園\n\n\n\n \n 
URL:https://iimono.town/event/2026-%e3%81%b2%e3%82%81%e3%81%98%e3%82%a2%e3%83%bc%e3%83%86%e3%82%a3%e3%82%b9%e3%83%88%e3%83%95%e3%82%a7%e3%82%b9%e3%83%86%e3%82%a3%e3%83%90%e3%83%ab%e2%94%82%e5%a7%ab%e8%b7%af%e5%b8%82/
LOCATION:シロトピア記念公園\, 670-0012　​兵庫県姫路市本町68番地
CATEGORIES:姫路市
ATTACH;FMTTYPE=image/jpeg:https://iimono.town/wp-content/uploads/2026/03/00880e92e39f015c3bbb970e93872f90-19.jpg
END:VEVENT
BEGIN:VEVENT
DTSTART;TZID=Asia/Tokyo:20260522T000000
DTEND;TZID=Asia/Tokyo:20260524T000000
DTSTAMP:20260422T074015
CREATED:20260227T084953Z
LAST-MODIFIED:20260227T084953Z
UID:171936-1779408000-1779580800@iimono.town
SUMMARY:第76回 姫路お城まつり│姫路市
DESCRIPTION:5月22日～24日の期間、「第76回 姫路お城まつり」が開催されます。 \n\n\n\n開催日\n2026年5月22日（金）～24日（日）\n\n\n\n内容\n5月22日(金)\n第55回姫路城薪能\n親子教室発表会 \n5月23日(土)\n姫路大名行列\n子ども大名・千姫輿入れ行列\nキャッスルパレード\nステージイベント\n総踊り等 \n5月24日(日)\n第25回ひめじ良さ恋まつり\nサウンドフェスティバル2026\nキッズイベント等 \n※実施イベントは予定です
URL:https://iimono.town/event/%e7%ac%ac76%e5%9b%9e-%e5%a7%ab%e8%b7%af%e3%81%8a%e5%9f%8e%e3%81%be%e3%81%a4%e3%82%8a%e2%94%82%e5%a7%ab%e8%b7%af%e5%b8%82/
LOCATION:姫路城\, 670-0012 兵庫県姫路市本町６８
CATEGORIES:姫路市
ATTACH;FMTTYPE=image/jpeg:https://iimono.town/wp-content/uploads/2026/02/postar.jpg
END:VEVENT
BEGIN:VEVENT
DTSTART;TZID=Asia/Tokyo:20260614T103000
DTEND;TZID=Asia/Tokyo:20260614T150000
DTSTAMP:20260422T074015
CREATED:20260409T015145Z
LAST-MODIFIED:20260409T015145Z
UID:174128-1781433000-1781449200@iimono.town
SUMMARY:第18回 福崎さるびあマルシェ│福崎町
DESCRIPTION:6月14日に、さるびあドームにて「第18回 福崎さるびあマルシェ」が開催されます。 \n\n\n\n開催日時\n2026年6月14日（日）10:30～15:00\n\n\n場所\nさるびあドーム\n\n\n\n 
URL:https://iimono.town/event/%e7%ac%ac18%e5%9b%9e-%e7%a6%8f%e5%b4%8e%e3%81%95%e3%82%8b%e3%81%b3%e3%81%82%e3%83%9e%e3%83%ab%e3%82%b7%e3%82%a7%e2%94%82%e7%a6%8f%e5%b4%8e%e7%94%ba/
LOCATION:さるびあドーム\, 679-2215 兵庫県神崎郡福崎町西治２８４−３
CATEGORIES:福崎町
ATTACH;FMTTYPE=image/jpeg:https://iimono.town/wp-content/uploads/2018/11/IMG_5319.jpg
END:VEVENT
END:VCALENDAR