BEGIN:VCALENDAR
VERSION:2.0
PRODID:-//いいものタウン - ECPv6.3.7//NONSGML v1.0//EN
CALSCALE:GREGORIAN
METHOD:PUBLISH
X-WR-CALNAME:いいものタウン
X-ORIGINAL-URL:https://iimono.town
X-WR-CALDESC:いいものタウン のイベント
REFRESH-INTERVAL;VALUE=DURATION:PT1H
X-Robots-Tag:noindex
X-PUBLISHED-TTL:PT1H
BEGIN:VTIMEZONE
TZID:Asia/Tokyo
BEGIN:STANDARD
TZOFFSETFROM:+0900
TZOFFSETTO:+0900
TZNAME:JST
DTSTART:20260101T000000
END:STANDARD
END:VTIMEZONE
BEGIN:VEVENT
DTSTART;TZID=Asia/Tokyo:20260307T100000
DTEND;TZID=Asia/Tokyo:20260308T170000
DTSTAMP:20260420T071840
CREATED:20260305T005855Z
LAST-MODIFIED:20260305T005855Z
UID:172129-1772877600-1772989200@iimono.town
SUMMARY:第６回 ロハスパーク加西@フラワーセンター│加西市
DESCRIPTION:3月7日・8日に、フラワーセンターにて「第６回 ロハスパーク加西@フラワーセンター」が開催されます。 \n\n\n\n開催日時\n2026年3月7日(土)・8日(日)　10:00～17:00\n※雨天決行\n\n\n場所\n兵庫県立フラワーセンター　芝生広場とその周辺
URL:https://iimono.town/event/%e7%ac%ac%ef%bc%96%e5%9b%9e-%e3%83%ad%e3%83%8f%e3%82%b9%e3%83%91%e3%83%bc%e3%82%af%e5%8a%a0%e8%a5%bf%e3%83%95%e3%83%a9%e3%83%af%e3%83%bc%e3%82%bb%e3%83%b3%e3%82%bf%e3%83%bc%e2%94%82%e5%8a%a0%e8%a5%bf/
LOCATION:兵庫県立フラワーセンター\, 〒675-2103 兵庫県加西市豊倉町飯森1282‐1
CATEGORIES:加西市
ATTACH;FMTTYPE=image/jpeg:https://iimono.town/wp-content/uploads/2026/03/00880e92e39f015c3bbb970e93872f90-5.jpg
END:VEVENT
END:VCALENDAR